BEGIN:VCALENDAR
VERSION:2.0
PRODID:-//wp-events-plugin.com//7.2.3.1//EN
TZID:Europe/Berlin
X-WR-TIMEZONE:Europe/BerlinBEGIN:VCALENDAR
VERSION:2.0
PRODID:-//wp-events-plugin.com//7.2.3.1//EN
TZID:Europe/Berlin
X-WR-TIMEZONE:Europe/Berlin
BEGIN:VEVENT
UID:0-2966@castelltreff.de
DTSTART;TZID=Europe/Berlin:20251111T130000
DTEND;TZID=Europe/Berlin:20251111T153000
DTSTAMP:20251022T103459Z
URL:https://castelltreff.de/events/3-ausflug-zu-ver-rueckte-zeiten/
SUMMARY:3. Ausflug zu „Ver-rückte Zeiten“
DESCRIPTION:Wegen der großen Nachfrage nach den ersten beiden Führungen i
 m September und Oktober gibt es heute eine Neuauflage: Wir besuchen das Mu
 seum „Ver-rückte Zeiten“ zur Geschichte der Psychiatrie. Es liegt auf
  dem Gelände der LVR-Klinik (Kaiser Karl Ring 20) Manfred hat  eine etwa
  90-minütige Führung durch die lehrreiche Ausstellung für uns organisie
 rt. Wir starten um 13:00 Uhr am Museumseingang. (Haus 15\; Flyer mit Lagep
 lan hier)  Im Anschluss setzen wir uns nach guter Tradition bei einem kle
 inen Imbiss zusammen zu Austausch und Kennenlernen.\n\nDie Veranstaltung i
 st derzeit ausgebucht.\nKostenbeitrag pro Person: 5 €\nAnmeldung für di
 e Warteliste: events@castelltreff.de oder 0172 2521795
ATTACH;FMTTYPE=image/jpeg:https://castelltreff.de/wp-content/uploads/2025/
 08/Psychiatrie-Museum.Krankensaal.500.jpg
CATEGORIES:öffentlich
END:VEVENT
BEGIN:VTIMEZONE
TZID:Europe/Berlin
X-LIC-LOCATION:Europe/Berlin
BEGIN:STANDARD
DTSTART:20251026T020000
TZOFFSETFROM:+0200
TZOFFSETTO:+0100
TZNAME:CET
END:STANDARD
END:VTIMEZONE
END:VCALENDAR