BEGIN:VCALENDAR
VERSION:2.0
PRODID:-//wp-events-plugin.com//7.2.3.1//EN
TZID:Europe/Berlin
X-WR-TIMEZONE:Europe/BerlinBEGIN:VCALENDAR
VERSION:2.0
PRODID:-//wp-events-plugin.com//7.2.3.1//EN
TZID:Europe/Berlin
X-WR-TIMEZONE:Europe/Berlin
BEGIN:VEVENT
UID:0-2857@castelltreff.de
DTSTART;TZID=Europe/Berlin:20251130T150000
DTEND;TZID=Europe/Berlin:20251130T180000
DTSTAMP:20251124T210542Z
URL:https://castelltreff.de/events/advent-im-castelltreff/
SUMMARY:1. Advent im Castelltreff
DESCRIPTION:Gemeinsam läuten wir am ersten Advent (30. November) die Vorwe
 ihnachtszeit ein.. Von 15 bis 18 Uhr heißt es wieder „Macht hoch die T
 ür“ zu einem schön geschmückten\, duftenden Treff. Traditionell berei
 tet die Nachbarschaft für die Nachbarschaft das Fest\, denn in der Graurh
 eindorfer Straße 29 geht es persönlich zu – nicht perfekt\, sondern li
 ebevoll selbstgemacht. Ein tolles Team hat sich zusammengefunden und freut
  sich auf viele fröhliche Gäste.
ATTACH;FMTTYPE=image/jpeg:https://castelltreff.de/wp-content/uploads/2025/
 10/Adventskerze-1067178_640.pixabay.jpg
CATEGORIES:öffentlich
END:VEVENT
BEGIN:VTIMEZONE
TZID:Europe/Berlin
X-LIC-LOCATION:Europe/Berlin
BEGIN:STANDARD
DTSTART:20251026T020000
TZOFFSETFROM:+0200
TZOFFSETTO:+0100
TZNAME:CET
END:STANDARD
END:VTIMEZONE
END:VCALENDAR