BEGIN:VCALENDAR
VERSION:2.0
PRODID:-//wp-events-plugin.com//7.2.3.1//EN
TZID:Europe/Berlin
X-WR-TIMEZONE:Europe/BerlinBEGIN:VCALENDAR
VERSION:2.0
PRODID:-//wp-events-plugin.com//7.2.3.1//EN
TZID:Europe/Berlin
X-WR-TIMEZONE:Europe/Berlin
BEGIN:VEVENT
UID:0-2976@castelltreff.de
DTSTART;TZID=Europe/Berlin:20251120T170000
DTEND;TZID=Europe/Berlin:20251120T183000
DTSTAMP:20251115T094049Z
URL:https://castelltreff.de/events/anna-etter-liest-aus-ihrem-buch-sie-sch
 aut-mir-direkt-ins-herz/
SUMMARY:Lesung Anna Etter "Sie schaut mir direkt ins Herz"
DESCRIPTION:Anna hat 2012 ein Hospiz in Indien gegründet\, wo obdachlose a
 lte Frauen in Frieden leben und sterben können. Das Buch gibt Einblick in
  die Geschichte der Frauen und die Entstehung dieses einzigartigen Projekt
 s in Südindien.\n\nWir bitten möglichst um Anmeldung unter events@castel
 ltreff.de.\n\nDie Veranstaltung ist kostenlos. Über eine Spende für das 
 Projekt freut sich Anna.
ATTACH;FMTTYPE=image/jpeg:https://castelltreff.de/wp-content/uploads/2023/
 04/IMG_4511-scaled.jpeg
CATEGORIES:öffentlich
END:VEVENT
BEGIN:VTIMEZONE
TZID:Europe/Berlin
X-LIC-LOCATION:Europe/Berlin
BEGIN:STANDARD
DTSTART:20251026T020000
TZOFFSETFROM:+0200
TZOFFSETTO:+0100
TZNAME:CET
END:STANDARD
END:VTIMEZONE
END:VCALENDAR