BEGIN:VCALENDAR
VERSION:2.0
PRODID:-//wp-events-plugin.com//7.2.3.1//EN
TZID:Europe/Berlin
X-WR-TIMEZONE:Europe/BerlinBEGIN:VCALENDAR
VERSION:2.0
PRODID:-//wp-events-plugin.com//7.2.3.1//EN
TZID:Europe/Berlin
X-WR-TIMEZONE:Europe/Berlin
BEGIN:VEVENT
UID:0-2924@castelltreff.de
DTSTART;TZID=Europe/Berlin:20251016T130000
DTEND;TZID=Europe/Berlin:20251016T153000
DTSTAMP:20250929T070546Z
URL:https://castelltreff.de/events/ausflug-zu-ver-rueckte-zeiten/
SUMMARY:2. Ausflug zu „Ver-rückte Zeiten“
DESCRIPTION:Wegen der großen Nachfrage nach der ersten Führung Ende Septe
 mber gibt es heute eine Neuauflage: Wir besuchen das Museum „Ver-rückte
  Zeiten“ zur Geschichte der Psychiatrie. Es liegt auf dem Gelände der L
 VR-Klinik (Kaiser Karl Ring 20) Manfred hat  eine etwa 90-minütige Führ
 ung durch die lehrreiche Ausstellung für uns organisiert. Wir starten um 
 13:00 Uhr am Museumseingang. (Haus 15\; Flyer mit Lageplan hier)  Im Ansc
 hluss setzen wir uns nach guter Tradition bei einem kleinen Imbiss zusamme
 n zu Austausch und Kennenlernen.\n\nDie Veranstaltung ist derzeit ausgebuc
 ht.\nKostenbeitrag pro Person: 5 €\nAnmeldung für die Warteliste: event
 s@castelltreff.de oder 0172 2521795
ATTACH;FMTTYPE=image/jpeg:https://castelltreff.de/wp-content/uploads/2025/
 08/Psychiatrie-Museum.Krankensaal.500.jpg
CATEGORIES:öffentlich
END:VEVENT
BEGIN:VTIMEZONE
TZID:Europe/Berlin
X-LIC-LOCATION:Europe/Berlin
BEGIN:DAYLIGHT
DTSTART:20250330T030000
TZOFFSETFROM:+0100
TZOFFSETTO:+0200
TZNAME:CEST
END:DAYLIGHT
END:VTIMEZONE
END:VCALENDAR