BEGIN:VCALENDAR
VERSION:2.0
PRODID:-//wp-events-plugin.com//7.2.3.1//EN
TZID:Europe/Berlin
X-WR-TIMEZONE:Europe/BerlinBEGIN:VCALENDAR
VERSION:2.0
PRODID:-//wp-events-plugin.com//7.2.3.1//EN
TZID:Europe/Berlin
X-WR-TIMEZONE:Europe/Berlin
BEGIN:VEVENT
UID:0-2879@castelltreff.de
DTSTART;TZID=Europe/Berlin:20250930T130000
DTEND;TZID=Europe/Berlin:20250930T153000
DTSTAMP:20250929T070301Z
URL:https://castelltreff.de/events/ausflug-zu-verrueckte-zeiten/
SUMMARY:Ausflug zu „Ver-rückte Zeiten“
DESCRIPTION:Manchmal liegt das Gute so nah: Auf dem Gelände der LVR-Klinik
  (Kaiser Karl Ring 20) liegt das Museum „Ver-rückte Zeiten“ zur Gesch
 ichte der Psychiatrie. Manfred hat für den 30. September eine etwa 90-min
 ütige Führung durch die lehrreiche Ausstellung für uns organisiert. Wir
  starten um 13:00 Uhr am Museumseingang. (Haus 15\; Flyer mit Lageplan hie
 r)  Im Anschluss setzen wir uns nach guter Tradition bei einem kleinen Im
 biss zusammen zu Austausch und Kennenlernen.\n\nDie Veranstaltung ist derz
 eit - ebenso wie die Wiederholung am 16.10. - ausgebucht.\nKostenbeitrag p
 ro Person: 5 €\nAnmeldung für die Warteliste: events@castelltreff.de od
 er 0172 2521795
ATTACH;FMTTYPE=image/jpeg:https://castelltreff.de/wp-content/uploads/2025/
 08/Psychiatrie-Museum.Krankensaal.500.jpg
CATEGORIES:öffentlich
END:VEVENT
BEGIN:VTIMEZONE
TZID:Europe/Berlin
X-LIC-LOCATION:Europe/Berlin
BEGIN:DAYLIGHT
DTSTART:20250330T030000
TZOFFSETFROM:+0100
TZOFFSETTO:+0200
TZNAME:CEST
END:DAYLIGHT
END:VTIMEZONE
END:VCALENDAR