BEGIN:VCALENDAR
VERSION:2.0
PRODID:-//wp-events-plugin.com//7.2.3.1//EN
TZID:Europe/Berlin
X-WR-TIMEZONE:Europe/BerlinBEGIN:VCALENDAR
VERSION:2.0
PRODID:-//wp-events-plugin.com//7.2.3.1//EN
TZID:Europe/Berlin
X-WR-TIMEZONE:Europe/Berlin
BEGIN:VEVENT
UID:0-3020@castelltreff.de
DTSTART;TZID=Europe/Berlin:20251210T110000
DTEND;TZID=Europe/Berlin:20251210T140000
DTSTAMP:20251203T094550Z
URL:https://castelltreff.de/events/besuch-des-heimatmuseums-beuel/
SUMMARY:Besuch des Heimatmuseums Beuel
DESCRIPTION:LEIDER SCHON AUSGEBUCHT:\nDer Castelltreff traut sich op de sch
 äl Sick! Ein letztes Mal in diesem Jahr fliegen wir aus. Diesmal geht es 
 ins Beueler Heimatmuseum. Dort erwartet uns eine rheinisch-launige Führun
 g durch die Sammlung. Von Mammut bis Gebietsreform reicht der Bogen. Vor a
 llem die frühen Gewerbe Fischerei\, Schifffahrt und Wäscherei und das Le
 ben\, Arbeiten und Wohnen um die Jahrhundertwende werden vorgestellt.\nHie
 r gibt es schon einmal einen Vorgeschmack.\nAnschließend sitzen wir noch 
 bei einem Stück Kuchen in der Rheinlust zusammen.\nDie Anfahrt erfolgt in
 dividuell. (ÖPNV Haltestellen Beuel Krankenhaus [50m] oder Konrad-Adenaue
 r-Platz [500m])\nKostenbeitrag: 5 € p. P.\nAnmeldung erforderlich bis 7.
 12.: events@castelltreff.de oder 0172 2521795
ATTACH;FMTTYPE=image/jpeg:https://castelltreff.de/wp-content/uploads/2025/
 11/Beuel-Heimatmuseum.luftbild_500.jpg
CATEGORIES:öffentlich
END:VEVENT
BEGIN:VTIMEZONE
TZID:Europe/Berlin
X-LIC-LOCATION:Europe/Berlin
BEGIN:STANDARD
DTSTART:20251026T020000
TZOFFSETFROM:+0200
TZOFFSETTO:+0100
TZNAME:CET
END:STANDARD
END:VTIMEZONE
END:VCALENDAR