BEGIN:VCALENDAR
VERSION:2.0
PRODID:-//wp-events-plugin.com//7.2.3.1//EN
TZID:Europe/Berlin
X-WR-TIMEZONE:Europe/BerlinBEGIN:VCALENDAR
VERSION:2.0
PRODID:-//wp-events-plugin.com//7.2.3.1//EN
TZID:Europe/Berlin
X-WR-TIMEZONE:Europe/Berlin
BEGIN:VEVENT
UID:0-3006@castelltreff.de
DTSTART;TZID=Europe/Berlin;VALUE=DATE:20260101
DTEND;TZID=Europe/Berlin;VALUE=DATE:20260102
DTSTAMP:20251107T213114Z
URL:https://castelltreff.de/events/castelltreff-an-neujahr-geschlossen-kei
 n-literaturkreis-im-januar/
SUMMARY:Castelltreff an Neujahr geschlossen - kein Literaturkreis im Januar
DESCRIPTION:
ATTACH;FMTTYPE=image/jpeg:https://castelltreff.de/wp-content/uploads/2024/
 12/Sorry-IV.jpg
CATEGORIES:öffentlich
END:VEVENT
BEGIN:VTIMEZONE
TZID:Europe/Berlin
X-LIC-LOCATION:Europe/Berlin
BEGIN:STANDARD
DTSTART:20251026T020000
TZOFFSETFROM:+0200
TZOFFSETTO:+0100
TZNAME:CET
END:STANDARD
END:VTIMEZONE
END:VCALENDAR