BEGIN:VCALENDAR
VERSION:2.0
PRODID:-//wp-events-plugin.com//7.2.3.1//EN
TZID:Europe/Berlin
X-WR-TIMEZONE:Europe/BerlinBEGIN:VCALENDAR
VERSION:2.0
PRODID:-//wp-events-plugin.com//7.2.3.1//EN
TZID:Europe/Berlin
X-WR-TIMEZONE:Europe/Berlin
BEGIN:VEVENT
UID:0-2381@castelltreff.de
DTSTART;TZID=Europe/Berlin:20251026T140000
DTEND;TZID=Europe/Berlin:20251026T150000
DTSTAMP:20251021T231411Z
URL:https://castelltreff.de/events/der-kasper-kommt/
SUMMARY:AUSGEBUCHT: Der Kasper kommt!
DESCRIPTION:"Das Krokodil vom Nil" heißt das Stück\, das Puppenspieler Ge
 bhard Cherubim diesmal mit seinem holzköpfigen Ensemble einstudiert hat.\
 n\nFür Kinder von circa 4 bis 8 Jahren\n\nEintritt: 5 € pro Person\n\nR
 eservierung unter events@castelltreff.de oder 0228 18035117
ATTACH;FMTTYPE=image/jpeg:https://castelltreff.de/wp-content/uploads/2023/
 09/1ba39e_cb502144b43622416e9a442b11e41f0a.webp
CATEGORIES:öffentlich
END:VEVENT
BEGIN:VTIMEZONE
TZID:Europe/Berlin
X-LIC-LOCATION:Europe/Berlin
BEGIN:STANDARD
DTSTART:20251026T020000
TZOFFSETFROM:+0200
TZOFFSETTO:+0100
TZNAME:CET
END:STANDARD
END:VTIMEZONE
END:VCALENDAR