BEGIN:VCALENDAR
VERSION:2.0
PRODID:-//wp-events-plugin.com//7.2.3.1//EN
TZID:Europe/Berlin
X-WR-TIMEZONE:Europe/BerlinBEGIN:VCALENDAR
VERSION:2.0
PRODID:-//wp-events-plugin.com//7.2.3.1//EN
TZID:Europe/Berlin
X-WR-TIMEZONE:Europe/Berlin
BEGIN:VEVENT
UID:0-424@castelltreff.de
DTSTART;TZID=Europe/Berlin:20230316T183000
DTEND;TZID=Europe/Berlin:20230316T200000
DTSTAMP:20230515T124117Z
URL:https://castelltreff.de/events/erinnerungen-an-das-juedische-leben-in-
 unserem-viertel-2/
SUMMARY:Erinnerungen an das jüdische Leben in unserem Viertel
DESCRIPTION:Leah Brungs hält einen Vortrag über die Geschichte des jüdis
 chen Lebens in unserem Viertel. Sie berichtet über Menschen\, die hier ü
 ber die Jahrhunderte ihren Lebensmittelpunkt hatten.\nLeah Brungs ist frei
 berufliche Autorin und lebt in Castell. Sie ist Gründungsmitglied des Ver
 eins für die Geschichte der Juden der Rheinlande und des Kleines Jüdisch
 en Lehrhauses.\nDa wir nicht gern Interessierte erst an Ort und Stelle abw
 eisen\, bitten wir um Anmeldung entweder unter events@castelltreff.de oder
  telefonisch unter 0228 18035117.
CATEGORIES:öffentlich
END:VEVENT
BEGIN:VTIMEZONE
TZID:Europe/Berlin
X-LIC-LOCATION:Europe/Berlin
BEGIN:STANDARD
DTSTART:20221030T020000
TZOFFSETFROM:+0200
TZOFFSETTO:+0100
TZNAME:CET
END:STANDARD
END:VTIMEZONE
END:VCALENDAR