BEGIN:VCALENDAR
VERSION:2.0
PRODID:-//wp-events-plugin.com//7.2.3.1//EN
TZID:Europe/Berlin
X-WR-TIMEZONE:Europe/BerlinBEGIN:VCALENDAR
VERSION:2.0
PRODID:-//wp-events-plugin.com//7.2.3.1//EN
TZID:Europe/Berlin
X-WR-TIMEZONE:Europe/Berlin
BEGIN:VEVENT
UID:0-2916@castelltreff.de
DTSTART;TZID=Europe/Berlin:20251117T183000
DTEND;TZID=Europe/Berlin:20251117T200000
DTSTAMP:20251114T174630Z
URL:https://castelltreff.de/events/erzaehl-salon-von-menschen-und-maschine
 n-2025-10-06-2025-10-13-2025-10-20-2025-10-27-2025-11-03-2025-11-10-2025-1
 1-17/
SUMMARY:HEUTE KEIN Erzähl-Salon „Von Menschen und Maschinen“
DESCRIPTION:NÄCHSTER SALON ERST WIEDER AM 1: DEZEMBER!\n\nDie Autorin und 
 Medienforscherin Sabria David bittet im Castelltreff zu dieser wöchentlic
 hen Gesprächsreihe: Gemeinsam loten wir aus\, wie wir Mensch bleiben und 
 glücklich sein können in einer Welt der Veränderung\, voller Geräte un
 d Chatbots\, zwischen Papier und Pixel. Ein Salon über unsere Gesellschaf
 t im Wandel\, über die täglichen Herausforderungen\, über bereits Gelun
 genes und darüber\, wie wir uns eine ideale Zukunft im Miteinander vorste
 llen. Sabria David gibt Anstöße und öffnet ihre Schatzkiste an Anekdote
 n\, Rückblicken und Ausblicken\, Texten und Gedanken. Es geht um Tippger
 äusche und Lochkarten\, um Handschriften\, Dampfmaschinen und Märchen un
 d um das verfluchte geliebte Handy.\n\nWöchentlich\, immer montags\, 18:3
 0 bis 20 Uhr\nOffen für alle\, gerne generationsübergreifend.\nBeitrag p
 ro Abend 10 €\; ohne Anmeldung.
ATTACH;FMTTYPE=image/jpeg:https://castelltreff.de/wp-content/uploads/2025/
 08/Sabria_David-63044.Harald-Krichel.500.jpg
CATEGORIES:öffentlich
END:VEVENT
BEGIN:VTIMEZONE
TZID:Europe/Berlin
X-LIC-LOCATION:Europe/Berlin
BEGIN:STANDARD
DTSTART:20251026T020000
TZOFFSETFROM:+0200
TZOFFSETTO:+0100
TZNAME:CET
END:STANDARD
END:VTIMEZONE
END:VCALENDAR