BEGIN:VCALENDAR
VERSION:2.0
PRODID:-//wp-events-plugin.com//7.2.3.1//EN
TZID:Europe/Berlin
X-WR-TIMEZONE:Europe/BerlinBEGIN:VCALENDAR
VERSION:2.0
PRODID:-//wp-events-plugin.com//7.2.3.1//EN
TZID:Europe/Berlin
X-WR-TIMEZONE:Europe/Berlin
BEGIN:VEVENT
UID:0-2912@castelltreff.de
DTSTART;TZID=Europe/Berlin:20251020T183000
DTEND;TZID=Europe/Berlin:20251020T200000
DTSTAMP:20251014T191126Z
URL:https://castelltreff.de/events/erzaehl-salon-von-menschen-und-maschine
 n-2025-10-06-2025-10-13-2025-10-20/
SUMMARY:Erzähl-Salon „Von Menschen und Maschinen“
DESCRIPTION:Die Autorin und Medienforscherin Sabria David bittet im Caste
 lltreff zu dieser wöchentlichen Gesprächsreihe: Das Thema "Von Menschen 
 und Maschinen" nehmen wir diesmal wörtlich. Wir befassen wir uns mit eine
 r (echten!) Maschine. Welche Funktion erfüllt sie? Welche Geschichte erz
 ählt sie uns? Wie war es früher und wie ist es heute? Wir sprechen darü
 ber\, was uns Maschinen abnehmen - und was sie uns geben.\n\nSabria David 
 gibt Anstöße und öffnet ihre Schatzkiste an Anekdoten\, Rückblicken un
 d Ausblicken\, Texten und Gedanken.\n\nWöchentlich\, immer montags\, 18:3
 0 bis 20 Uhr\nOffen für alle\, gerne generationsübergreifend.\nBeitrag p
 ro Abend 10 €\; ohne Anmeldung.
ATTACH;FMTTYPE=image/jpeg:https://castelltreff.de/wp-content/uploads/2025/
 08/Sabria_David-63044.Harald-Krichel.500.jpg
CATEGORIES:öffentlich
END:VEVENT
BEGIN:VTIMEZONE
TZID:Europe/Berlin
X-LIC-LOCATION:Europe/Berlin
BEGIN:DAYLIGHT
DTSTART:20250330T030000
TZOFFSETFROM:+0100
TZOFFSETTO:+0200
TZNAME:CEST
END:DAYLIGHT
END:VTIMEZONE
END:VCALENDAR