BEGIN:VCALENDAR
VERSION:2.0
PRODID:-//wp-events-plugin.com//7.2.3.1//EN
TZID:Europe/Berlin
X-WR-TIMEZONE:Europe/BerlinBEGIN:VCALENDAR
VERSION:2.0
PRODID:-//wp-events-plugin.com//7.2.3.1//EN
TZID:Europe/Berlin
X-WR-TIMEZONE:Europe/Berlin
BEGIN:VEVENT
UID:0-2911@castelltreff.de
DTSTART;TZID=Europe/Berlin:20251013T183000
DTEND;TZID=Europe/Berlin:20251013T200000
DTSTAMP:20251008T111835Z
URL:https://castelltreff.de/events/erzaehl-salon-von-menschen-und-maschine
 n-2025-10-06-2025-10-13/
SUMMARY:Erzähl-Salon am 13. Oktober
DESCRIPTION:Die Autorin und Medienforscherin Sabria David bittet im Castel
 ltreff zu ihrer Gesprächsreihe "Von Menschen und Maschinen" (mmer montags
 \, 18:30 bis 20:00 Uhr). Am 13. Oktober gibt es Einblicke in die Werkstatt
  von Wikipedia. Wie sieht es im Bauchraum der weltweiten Online-Enzyklopä
 die aus? Wer schreibt da nach welchen Regeln? Und stimmt es wirklich\, das
 s wir selbst dort direkt Textstellen verbessern können? Wir probieren es 
 aus. Schließlich ist Wikipedia ein gutes Beispiel dafür\, wie Mensch und
  Technik zusammenarbeiten können. (Übrigens: Sabria David war acht Jahre
 s lang Mitglied des Präsidiums von Wikimedia Deutschland\, dem Förderver
 ein hinter Wikipedia.)\nBeitrag pro Abend: 10 Euro. Anmeldung nicht erford
 erlich.
ATTACH;FMTTYPE=image/jpeg:https://castelltreff.de/wp-content/uploads/2025/
 08/Sabria_David-63044.Harald-Krichel.500.jpg
CATEGORIES:öffentlich
END:VEVENT
BEGIN:VTIMEZONE
TZID:Europe/Berlin
X-LIC-LOCATION:Europe/Berlin
BEGIN:DAYLIGHT
DTSTART:20250330T030000
TZOFFSETFROM:+0100
TZOFFSETTO:+0200
TZNAME:CEST
END:DAYLIGHT
END:VTIMEZONE
END:VCALENDAR