BEGIN:VCALENDAR
VERSION:2.0
PRODID:-//wp-events-plugin.com//7.2.3.1//EN
TZID:Europe/Berlin
X-WR-TIMEZONE:Europe/BerlinBEGIN:VCALENDAR
VERSION:2.0
PRODID:-//wp-events-plugin.com//7.2.3.1//EN
TZID:Europe/Berlin
X-WR-TIMEZONE:Europe/Berlin
BEGIN:VEVENT
UID:0-3371@castelltreff.de
DTSTART;TZID=Europe/Berlin:20260302T183000
DTEND;TZID=Europe/Berlin:20260302T200000
DTSTAMP:20260125T150421Z
URL:https://castelltreff.de/events/erzaehl-salon-von-menschen-und-maschine
 n-mit-sabria-david-2026-03-02/
SUMMARY:Erzähl-Salon „Von Menschen und Maschinen“ mit Sabria David
DESCRIPTION:Diesmal bietet Frau David offenes Gespräch und Bericht aus dem
  CERN. Das CERN ist der Geburtsort des world wide web. Die Europäische Or
 ganisation für Kernforschung ist eine Großforschungseinrichtung\, an der
  25 Mitgliedstaaten gemeinsam forschen\, Teilchenbeschleuniger und Antimat
 erie-Fabriken gemeinsam betreiben. Im Park stehen Jules Verne-artige alte 
 Maschinen. Sabria David war dort eingeladen und berichtet gerne.\n\nDen Er
 zähl-Salon gibt es immer am ersten Montag des Monats im Castelltreff.\nOf
 fen für alle\, gerne generationsübergreifend.\nBeitrag pro Abend 10 €\
 ; Anmeldung nicht erforderlich.\n\n&nbsp\;\n\n&nbsp\;
ATTACH;FMTTYPE=image/jpeg:https://castelltreff.de/wp-content/uploads/2025/
 08/Sabria_David-63044.Harald-Krichel.500.jpg
CATEGORIES:öffentlich
END:VEVENT
BEGIN:VTIMEZONE
TZID:Europe/Berlin
X-LIC-LOCATION:Europe/Berlin
BEGIN:STANDARD
DTSTART:20251026T020000
TZOFFSETFROM:+0200
TZOFFSETTO:+0100
TZNAME:CET
END:STANDARD
END:VTIMEZONE
END:VCALENDAR