BEGIN:VCALENDAR
VERSION:2.0
PRODID:-//wp-events-plugin.com//7.2.3.1//EN
TZID:Europe/Berlin
X-WR-TIMEZONE:Europe/BerlinBEGIN:VCALENDAR
VERSION:2.0
PRODID:-//wp-events-plugin.com//7.2.3.1//EN
TZID:Europe/Berlin
X-WR-TIMEZONE:Europe/Berlin
BEGIN:VEVENT
UID:0-2906@castelltreff.de
DTSTART;TZID=Europe/Berlin:20250929T183000
DTEND;TZID=Europe/Berlin:20250929T200000
DTSTAMP:20250829T160402Z
URL:https://castelltreff.de/events/erzaehl-salon-von-menschen-und-maschine
 n-mit-sabria-david-6/
SUMMARY:Erzähl-Salon „Von Menschen und Maschinen“ mit Sabria David
DESCRIPTION:Die Autorin und Medienforscherin Sabria David bittet im Castell
 treff zu dieser wöchentlichen Gesprächsreihe: Gemeinsam loten wir aus\, 
 wie wir Mensch bleiben und glücklich sein können in einer Welt der Verä
 nderung\, voller Geräte und Chatbots\, zwischen Papier und Pixel. Ein Sal
 on über unsere Gesellschaft im Wandel\, über die täglichen Herausforder
 ungen\, über bereits Gelungenes und darüber\, wie wir uns eine ideale Zu
 kunft im Miteinander vorstellen. Sabria David gibt Anstöße und öffnet i
 hre Schatzkiste an Anekdoten\, Rückblicken und Ausblicken\, Texten und Ge
 danken. Es geht um Tippgeräusche und Lochkarten\, um Handschriften\, Damp
 fmaschinen und Märchen und um das verfluchte geliebte Handy.\n\nWöchentl
 ich\, immer montags\, 18:30 bis 20 Uhr\nOffen für alle\, gerne generation
 sübergreifend.\nBeitrag pro Abend 10 €\; Anmeldung nicht erforderlich.
ATTACH;FMTTYPE=image/jpeg:https://castelltreff.de/wp-content/uploads/2025/
 08/Sabria_David-63044.Harald-Krichel.500.jpg
CATEGORIES:öffentlich
END:VEVENT
BEGIN:VTIMEZONE
TZID:Europe/Berlin
X-LIC-LOCATION:Europe/Berlin
BEGIN:DAYLIGHT
DTSTART:20250330T030000
TZOFFSETFROM:+0100
TZOFFSETTO:+0200
TZNAME:CEST
END:DAYLIGHT
END:VTIMEZONE
END:VCALENDAR