BEGIN:VCALENDAR
VERSION:2.0
PRODID:-//wp-events-plugin.com//7.2.3.1//EN
TZID:Europe/Berlin
X-WR-TIMEZONE:Europe/BerlinBEGIN:VCALENDAR
VERSION:2.0
PRODID:-//wp-events-plugin.com//7.2.3.1//EN
TZID:Europe/Berlin
X-WR-TIMEZONE:Europe/Berlin
BEGIN:VEVENT
UID:0-3381@castelltreff.de
DTSTART;TZID=Europe/Berlin:20260209T183000
DTEND;TZID=Europe/Berlin:20260209T200000
DTSTAMP:20260126T233151Z
URL:https://castelltreff.de/events/erzaehl-salon-von-menschen-und-maschine
 n-mit-sabria-david-7/
SUMMARY:Erzähl-Salon „Von Menschen und Maschinen“ mit Sabria David
DESCRIPTION:Die Wiederaufnahme nach der Winterpause startet mit Lesung und 
 Gespräch zum Thema Technik\, Handwerkstraditionen und Geschichte. Was erz
 ählen uns Gegenstände des Alltags über die dahinterliegende Entwicklung
  von Techniken\, Handwerk und Gesellschaften? Und welche Geschichten könn
 en uns Papierschirmchen erzählen?\n\nDen Erzähl-Salon gibt es dann ab M
 ärz immer am ersten Montag des Monats\nOffen für alle\, gerne generation
 sübergreifend.\nBeitrag pro Abend 10 €\; Anmeldung nicht erforderlich.
ATTACH;FMTTYPE=image/jpeg:https://castelltreff.de/wp-content/uploads/2025/
 08/Sabria_David-63044.Harald-Krichel.500.jpg
CATEGORIES:öffentlich
END:VEVENT
BEGIN:VTIMEZONE
TZID:Europe/Berlin
X-LIC-LOCATION:Europe/Berlin
BEGIN:STANDARD
DTSTART:20251026T020000
TZOFFSETFROM:+0200
TZOFFSETTO:+0100
TZNAME:CET
END:STANDARD
END:VTIMEZONE
END:VCALENDAR