BEGIN:VCALENDAR
VERSION:2.0
PRODID:-//wp-events-plugin.com//7.2.3.1//EN
TZID:Europe/Berlin
X-WR-TIMEZONE:Europe/BerlinBEGIN:VCALENDAR
VERSION:2.0
PRODID:-//wp-events-plugin.com//7.2.3.1//EN
TZID:Europe/Berlin
X-WR-TIMEZONE:Europe/Berlin
BEGIN:VEVENT
UID:0-2897@castelltreff.de
DTSTART;TZID=Europe/Berlin:20250915T183000
DTEND;TZID=Europe/Berlin:20250915T200000
DTSTAMP:20250829T153459Z
URL:https://castelltreff.de/events/erzaehl-salon-von-menschen-und-maschine
 n-mit-sabria-david/
SUMMARY:Erzähl-Salon „Von Menschen und Maschinen“ mit Sabria David
DESCRIPTION:Die Autorin und Medienforscherin Sabria David veranstaltet von 
 heute an im Castelltreff eine wöchentliche Gesprächsreihe: Gemeinsam lot
 en wir aus\, wie wir Mensch bleiben und glücklich sein können in einer W
 elt der Veränderung\, voller Geräte und Chatbots\, zwischen Papier und P
 ixel. Ein Salon über unsere Gesellschaft im Wandel\, über die täglichen
  Herausforderungen\, über bereits Gelungenes und darüber\, wie wir uns e
 ine ideale Zukunft im Miteinander vorstellen. Sabria David gibt Anstöße 
 und öffnet ihre Schatzkiste an Anekdoten\, Rückblicken und Ausblicken\, 
 Texten und Gedanken. Es geht um Tippgeräusche und Lochkarten\, um Handsch
 riften\, Dampfmaschinen und Märchen und um das verfluchte geliebte Handy.
 \n\nWöchentlich\, immer montags\, 18:30 bis 20 Uhr\nOffen für alle\, ger
 ne generationsübergreifend.\nBeitrag pro Abend 10 €\; Anmeldung nicht e
 rforderlich.
ATTACH;FMTTYPE=image/jpeg:https://castelltreff.de/wp-content/uploads/2025/
 08/Sabria_David-63044.Harald-Krichel.500.jpg
CATEGORIES:öffentlich
END:VEVENT
BEGIN:VTIMEZONE
TZID:Europe/Berlin
X-LIC-LOCATION:Europe/Berlin
BEGIN:DAYLIGHT
DTSTART:20250330T030000
TZOFFSETFROM:+0100
TZOFFSETTO:+0200
TZNAME:CEST
END:DAYLIGHT
END:VTIMEZONE
END:VCALENDAR