BEGIN:VCALENDAR
VERSION:2.0
PRODID:-//wp-events-plugin.com//7.2.3.1//EN
TZID:Europe/Berlin
X-WR-TIMEZONE:Europe/BerlinBEGIN:VCALENDAR
VERSION:2.0
PRODID:-//wp-events-plugin.com//7.2.3.1//EN
TZID:Europe/Berlin
X-WR-TIMEZONE:Europe/Berlin
BEGIN:VEVENT
UID:0-2302@castelltreff.de
DTSTART;TZID=Europe/Berlin:20241229T170000
DTEND;TZID=Europe/Berlin:20241229T183000
DTSTAMP:20241128T223044Z
URL:https://castelltreff.de/events/florian-erb-spielt-klassische-nordindis
 che-musik-2/
SUMMARY:Konzert: klassische afghanische und nordindische Musik
DESCRIPTION:Mit Ustad Daud Khan\, Rabhab &amp\; Sarod\nund\nFlorian Erb\, T
 abla\n\nEintritt € 15 (inkl. Spende)\nOrt: Castelltreff\, Graurheindorfe
 r Straße 29\, 53111 Bonn\nReservierungen unter: events@castellteff.de\; 0
 228 18035117
ATTACH;FMTTYPE=image/jpeg:https://castelltreff.de/wp-content/uploads/2023/
 10/Erb.eigenesFoto.P1000993.jpeg
CATEGORIES:öffentlich
END:VEVENT
BEGIN:VTIMEZONE
TZID:Europe/Berlin
X-LIC-LOCATION:Europe/Berlin
BEGIN:STANDARD
DTSTART:20241027T020000
TZOFFSETFROM:+0200
TZOFFSETTO:+0100
TZNAME:CET
END:STANDARD
END:VTIMEZONE
END:VCALENDAR