BEGIN:VCALENDAR
VERSION:2.0
PRODID:-//wp-events-plugin.com//7.2.3.1//EN
TZID:Europe/Berlin
X-WR-TIMEZONE:Europe/BerlinBEGIN:VCALENDAR
VERSION:2.0
PRODID:-//wp-events-plugin.com//7.2.3.1//EN
TZID:Europe/Berlin
X-WR-TIMEZONE:Europe/Berlin
BEGIN:VEVENT
UID:0-2947@castelltreff.de
DTSTART;TZID=Europe/Berlin;VALUE=DATE:20251026
DTEND;TZID=Europe/Berlin;VALUE=DATE:20251027
DTSTAMP:20251023T095018Z
URL:https://castelltreff.de/events/gemeinsam-ins-kino-12/
SUMMARY:Gemeinsam ins Kino: "Amrum"
DESCRIPTION:Der gemeinsame Kinobesuch führt diesmal in den Film "Amrum" vo
 n Fatih Akin (u.a. Gegen die Wand\, Soul Kitchen\, Tschick u.v.m.). Der Fi
 lm beginnt um 11.45 Uhr im Stern Kino am Bonner Marktplatz und dauert 100 
 Minuten. Wie immer trifft man sich kurz vorher am Kino\, wo jeder für sic
 h seine Karte kauft. Um 14.00 Uhr könnten dann all diejenigen\, die noch 
 Lust zu einem Gespräch haben\, mit ins Restaurant Opera kommen. Dort kann
  man auch nur etwas trinken. Anmeldung zum Kinobesuch und ggf. Restaurant-
 Besuch bitte an gwagner@gmx.de\n\nZum Film: Amrum spielt im Frühjahr 1945
 \, in den letzten Tagen des 2. Weltkrieges\, auf der titelgebenden deutsch
 en Nordseeinsel. Ein weißes Brot mit Butter und Honig – nach nichts seh
 nt sich die Mutter des zwölfjährigen Nanning mehr im Frühjahr 1945. Doc
 h ist ihr Wunsch schier unerfüllbar\, denn auf Amrum gibt es fast nichts 
 mehr zu essen.. Nanning\, der seine Mutter über alles liebt\, lässt sich
  davon nicht entmutigen und arbeitet einfallsreich an der Beschaffung der 
 Kostbarkeiten. Als er das Brot endlich servieren kann\, ist die Welt um ih
 n herum eine andere: Hitler ist tot\, der Krieg verloren und seine Mutter\
 , die stolze Nationalsozialistin\, versinkt in Depressionen. Der Film basi
 ert auf den Kindheitserinnerungen des Regisseurs und Drehbuchautors Hark B
 ohm.\n\nGudrun aus dem Castelltreff organisiert ehrenamtlich den gemeinsam
 en Kinobesuch mit anschließendem gemütlichen Austausch in einem Café o.
 ä..\n\nFilm\, Ort und Zeit werden spätestens am Donnerstag\, 23. Oktober
 \, bekanntgegeben - an dieser Stelle\, bei nebenan.de\, per Aushang am Cas
 telltreff sowie per Newsletter\, den man bei events@castelltreff.de bestel
 len kann.\n\nDie Kinobesuche finden in der Regel jeweils am vierten Sonnta
 g eines Monats statt.
ATTACH;FMTTYPE=image/jpeg:https://castelltreff.de/wp-content/uploads/2025/
 10/Amrum-titellos.200.jpg
CATEGORIES:öffentlich
END:VEVENT
BEGIN:VTIMEZONE
TZID:Europe/Berlin
X-LIC-LOCATION:Europe/Berlin
BEGIN:STANDARD
DTSTART:20251026T020000
TZOFFSETFROM:+0200
TZOFFSETTO:+0100
TZNAME:CET
END:STANDARD
END:VTIMEZONE
END:VCALENDAR