BEGIN:VCALENDAR
VERSION:2.0
PRODID:-//wp-events-plugin.com//7.2.3.1//EN
TZID:Europe/Berlin
X-WR-TIMEZONE:Europe/BerlinBEGIN:VCALENDAR
VERSION:2.0
PRODID:-//wp-events-plugin.com//7.2.3.1//EN
TZID:Europe/Berlin
X-WR-TIMEZONE:Europe/Berlin
BEGIN:VEVENT
UID:0-2961@castelltreff.de
DTSTART;TZID=Europe/Berlin;VALUE=DATE:20251123
DTEND;TZID=Europe/Berlin;VALUE=DATE:20251124
DTSTAMP:20251119T211923Z
URL:https://castelltreff.de/events/gemeinsam-ins-kino-13/
SUMMARY:Gemeinsam ins Kino: "Stiller" im Stern
DESCRIPTION:Gudrun aus dem Castelltreff organisiert ehrenamtlich den gemein
 samen Kinobesuch mit anschließendem gemütlichen Austausch in einem Café
  o.ä..\n\nDiesmal hat sie die aktuelle Verfilmung „Stiller“ des gleic
 hnamigen Romans von Max Frisch mit Albrecht Schuch und Paula Beer in den H
 auptrollen ausgesucht.\n\nBei einer Zugreise durch die Schweiz wird der US
 -Amerikaner James Larkin White an der Grenze festgenommen. Man wirft ihm v
 or\, der vor sieben Jahren verschwundene Bildhauer Anatol Stiller zu sein\
 , der wegen seiner Verwicklung in eine dubiose politische Affäre gesucht 
 wird. White bestreitet seine Schuld und beharrt darauf\, nicht Stiller zu 
 sein.\nEs geht um Identität\, Wahrheit und die Suche nach dem eigenen Ich
 .\n\nDer Film läuft am Sonntag\, 23. November\, um 14.10 Uhr im Stern am
  Markt (Dauer 100 Minuten). Man trifft sich wie immer circa 10 Minuten vor
 her. Wer Lust hat\, kommt im Anschluss mit ins Opera\, Kapuzinerstraße 13
 \, zum Austausch über den Film und mehr.\nAnmeldung ist wegen der Reservi
 erungen für Kino und Restaurant erforderlich. Bitte direkt an Gudrun: gwa
 gner@gmx.de). Zahlen tut jeder selbst.
ATTACH;FMTTYPE=image/jpeg:https://castelltreff.de/wp-content/uploads/2025/
 11/Stiller.500.jpg
CATEGORIES:öffentlich
END:VEVENT
BEGIN:VTIMEZONE
TZID:Europe/Berlin
X-LIC-LOCATION:Europe/Berlin
BEGIN:STANDARD
DTSTART:20251026T020000
TZOFFSETFROM:+0200
TZOFFSETTO:+0100
TZNAME:CET
END:STANDARD
END:VTIMEZONE
END:VCALENDAR