BEGIN:VCALENDAR
VERSION:2.0
PRODID:-//wp-events-plugin.com//7.2.3.1//EN
TZID:Europe/Berlin
X-WR-TIMEZONE:Europe/BerlinBEGIN:VCALENDAR
VERSION:2.0
PRODID:-//wp-events-plugin.com//7.2.3.1//EN
TZID:Europe/Berlin
X-WR-TIMEZONE:Europe/Berlin
BEGIN:VEVENT
UID:0-2962@castelltreff.de
DTSTART;TZID=Europe/Berlin;VALUE=DATE:20251221
DTEND;TZID=Europe/Berlin;VALUE=DATE:20251222
DTSTAMP:20251216T235202Z
URL:https://castelltreff.de/events/gemeinsam-ins-kino-14/
SUMMARY:Gemeinsam ins Kino: „Dann passiert das Leben“
DESCRIPTION:Diesmal geht's beim Sonntagskino in den Film „Dann passiert d
 as Leben“ mit Anke Engelke und Ulrich Tukur in die Neue Filmbühne in Be
 uel\, Friedrich-Breuer-Straße 68.\n\nDer Plot: Die langjährige Ehe von H
 ans und Rita folgt einer eingespielten Routine. Doch auf einmal werden alt
 e Wunden sichtbar\, fällt den beiden auf\, wie wenig sie über das Leben 
 ihres längst erwachsenen Sohnes wissen\, steht ihre Beziehung infrage. Un
 d dann passiert das Leben ...\n\nDie Vorstellung beginnt um 11 Uhr. Wir tr
 effen uns wie immer kurz vorher und jeder kauft seine Karte selbst. Der Fi
 lm dauert 90 Minuten und anschließend geht\, wer möchte\, noch gemeinsam
  in ein nahegelegenes Café o.ä.. Wegen der Reservierungen für Kino und 
 anschließendem Café\, bitte anmelden bei Gudrun: gwagner@gmx.de.\n\nGudr
 un aus dem Castelltreff organisiert ehrenamtlich den gemeinsamen Kinobesuc
 h mit anschließendem gemütlichen Austausch in einem Café o.ä.. Film\, 
 Ort und Zeit werden jeweils an dieser Stelle\, bei nebenan.de\, per Aushan
 g am Castelltreff sowie per Newsletter\, den man bei events@castelltreff.d
 e bestellen kann\, bekannt gegeben.\n\nDie Kinobesuche finden in der Regel
  jeweils am vierten Sonntag eines Monats statt. (In diesem Dezember machen
  wir eine Ausnahme.)
ATTACH;FMTTYPE=image/jpeg:https://castelltreff.de/wp-content/uploads/2025/
 12/dann_passiert_das_leben_2025_plde.500.jpg
CATEGORIES:öffentlich
END:VEVENT
BEGIN:VTIMEZONE
TZID:Europe/Berlin
X-LIC-LOCATION:Europe/Berlin
BEGIN:STANDARD
DTSTART:20251026T020000
TZOFFSETFROM:+0200
TZOFFSETTO:+0100
TZNAME:CET
END:STANDARD
END:VTIMEZONE
END:VCALENDAR