BEGIN:VCALENDAR
VERSION:2.0
PRODID:-//wp-events-plugin.com//7.2.3.1//EN
TZID:Europe/Berlin
X-WR-TIMEZONE:Europe/BerlinBEGIN:VCALENDAR
VERSION:2.0
PRODID:-//wp-events-plugin.com//7.2.3.1//EN
TZID:Europe/Berlin
X-WR-TIMEZONE:Europe/Berlin
BEGIN:VEVENT
UID:0-3338@castelltreff.de
DTSTART;TZID=Europe/Berlin:20260322T140000
DTEND;TZID=Europe/Berlin:20260322T170000
DTSTAMP:20260318T203121Z
URL:https://castelltreff.de/events/gemeinsam-ins-kino-2026-02-22-2026-03-2
 2/
SUMMARY:Gemeinsam ins Kino: „Ein fast perfekter Antrag“
DESCRIPTION:Diesmal gehen wir in die romantische Komödie „Ein fast perfe
 kter Antrag“ im Stern-Kino am Markt . Der Film beginnt um 14.10 Uhr\, d.
 h. wir treffen uns gegen 14.00 Uhr. Nach dem Film geht\, wer möchte\, geg
 en 16.00 Uhr mit ins OPERA\, um dort gemeinsam etwas zu trinken und\, wer 
 mag\, eine Kleinigkeit zu essen.\n\nWegen der Reservierungen für Kino und
  Restaurant bitte Anmeldung an gwagner@gmx.de.\nZahlen tut jeder selbst.\n
 \nZum Film - amüsant mit Tiefgang: Der eigenwillige Witwer Walter (Heiner
  Lauterbach) vertreibt sich seine Zeit im Ruhestand damit\, Restaurants zu
  testen und im Internet zu bewerten. Bei einem seiner Restaurantbesuche tr
 ifft er zufällig seine Jugendliebe Alice (Iris Berben) wieder. Vor 40 Jah
 ren hatte er ihr einen Heiratsantrag gemacht und war spektakulär gescheit
 ert. Die lebensfrohe und freigeistige Kunstprofessorin ist auch heute noch
  das genaue Gegenteil des altmodischen\, akkuraten Walter. Der Ehrgeiz des
  pensionierten Ingenieurs ist geweckt …\n\nIn der Regel an jedem vierten
  Sonntag eines Monats organisiert Gudrun den gemeinsamen Kinobesuch.  ACH
 TUNG: Im April wird es keinen gemeinsamen Kinobesuch geben\, dafür aber z
 weu im Mai\, nämlich am 3. und 31..\n\nFilm\, KIno und Uhrzeit geben wir 
 jeweils am vorangehenden MIttwoch oder Donnerstag bekannt - an dieser Stel
 le\, unter "Aktuelles"\, über unseren Newsletter (Anmeldung an events@cas
 telltreff.de)\, im Aushang am Treff (Graurheindorfer Straße 29) und auf I
 nstagram.
ATTACH;FMTTYPE=image/jpeg:https://castelltreff.de/wp-content/uploads/2026/
 03/ein-fast-perfekter-Antrag.400.jpg
CATEGORIES:öffentlich
END:VEVENT
BEGIN:VTIMEZONE
TZID:Europe/Berlin
X-LIC-LOCATION:Europe/Berlin
BEGIN:STANDARD
DTSTART:20251026T020000
TZOFFSETFROM:+0200
TZOFFSETTO:+0100
TZNAME:CET
END:STANDARD
END:VTIMEZONE
END:VCALENDAR