BEGIN:VCALENDAR
VERSION:2.0
PRODID:-//wp-events-plugin.com//7.2.3.1//EN
TZID:Europe/Berlin
X-WR-TIMEZONE:Europe/BerlinBEGIN:VCALENDAR
VERSION:2.0
PRODID:-//wp-events-plugin.com//7.2.3.1//EN
TZID:Europe/Berlin
X-WR-TIMEZONE:Europe/Berlin
BEGIN:VEVENT
UID:0-3337@castelltreff.de
DTSTART;TZID=Europe/Berlin;VALUE=DATE:20260222
DTEND;TZID=Europe/Berlin;VALUE=DATE:20260223
DTSTAMP:20260219T193141Z
URL:https://castelltreff.de/events/gemeinsam-ins-kino-2026-02-22/
SUMMARY:Gemeinsam ins Kino: „Ach\, diese Lücke\, diese entsetzliche Lüc
 ke“
DESCRIPTION:Heute geht es in die Komödie „Ach\, diese Lücke\, diese ent
 setzliche Lücke“ nach dem autobiographischen Roman von Joachim Meyerhof
 f. Die Verfilmung von Simon Verhoeven erzählt die Geschichte des vom Tod 
 seines Bruders tief erschütterten Schauspielschülers Joachim mit Witz un
 d Tiefe.\n\nDie Vorstellung beginnt um 11 Uhr in der Filmbühne in Beuel (
 Friedrich-Breuer-Str. 68) und dauert 135 Minuten. Im Anschluss gegen 13.30
  Uhr geht\, wer Lust hat\, mit ins Café Teatro gleich gegenüber.\n\nAnme
 ldung unter Angabe\, ob der Café-Besuch geplant ist\, bitte direkt an Org
 anisatorin Gudrun Wagner: gwagner@gmx.de. Sie reserviert die Plätze in Ki
 no und Café. Zahlen tut jede(r) selbst.\n\nIn der Regel an jedem vierten 
 Sonntag eines Monats organisiert Gudrun den gemeinsamen Kinobesuch. Film\,
  KIno und Uhrzeit geben wir jeweils am vorangehenden MIttwoch oder Donners
 tag bekannt - an dieser Stelle\, unter "Aktuelles"\, über unseren Newslet
 ter (Anmeldung an events@castelltreff.de)\, im Aushang am Treff (Graurhein
 dorfer Straße 29) und auf Instagram.
ATTACH;FMTTYPE=image/jpeg:https://castelltreff.de/wp-content/uploads/2026/
 02/Luecke.400.jpg
CATEGORIES:öffentlich
END:VEVENT
BEGIN:VTIMEZONE
TZID:Europe/Berlin
X-LIC-LOCATION:Europe/Berlin
BEGIN:STANDARD
DTSTART:20251026T020000
TZOFFSETFROM:+0200
TZOFFSETTO:+0100
TZNAME:CET
END:STANDARD
END:VTIMEZONE
END:VCALENDAR