BEGIN:VCALENDAR
VERSION:2.0
PRODID:-//wp-events-plugin.com//7.2.3.1//EN
TZID:Europe/Berlin
X-WR-TIMEZONE:Europe/BerlinBEGIN:VCALENDAR
VERSION:2.0
PRODID:-//wp-events-plugin.com//7.2.3.1//EN
TZID:Europe/Berlin
X-WR-TIMEZONE:Europe/Berlin
BEGIN:VEVENT
UID:0-2587@castelltreff.de
DTSTART;TZID=Europe/Berlin:20250525T130000
DTEND;TZID=Europe/Berlin:20250525T163000
DTSTAMP:20250522T075637Z
URL:https://castelltreff.de/events/gemeinsam-ins-kino-8/
SUMMARY:Gemeinsam ins Kino
DESCRIPTION:Der Castelltreff organisiert an jedem vierten Sonntag eines Mon
 ats einen gemeinsamen Kinobesuch für alle\, die sich lieber gemeinsam ein
 en Film anschauen und anschließend ein bisschen darüber austauschen möc
 hten.\n\nDiesmal: „Ich will alles. Hildegard Knef“.\n\nHildegard Knef 
 ist allen von uns ein Begriff. Sie gilt als Stilikone\, Grande Dame des Ch
 ansons\, letzte deutsche Diva\, Spiegel und Gegensatz ihrer Zeit.\n\nDer F
 ilm zeigt in Form einer dokumentarischen Biographie das Bild einer hochbeg
 abten\, ehrgeizigen\, lakonisch-scharfsinnigen Frau\, die immer wieder vor
 machte\, wie man Ruhm und Niederlagen übersteht.\n\nDer Film dauert 98 Mi
 nuten\, d.h. mit Werbung ca. 2 Stunden. Danach geht es ins Casa D`Olid\, e
 ine spanische Tapas-Bar auf der Endenicher Str. 268\, ca.5 Gehminuten vom 
 Kino entfernt. Die Kosten trägt jeder selbst.\n\nAnmeldung ist wegen der 
 Reservierungen für Film und Restaurant wichtig. Bitte an gwagner@gmx.de o
 der telefonisch unter 0228- 44 66 09 37 oder 0172-77 24 018.
ATTACH;FMTTYPE=image/jpeg:https://castelltreff.de/wp-content/uploads/2025/
 01/Kino-quadratisch.Pixabay.jpg
CATEGORIES:öffentlich
END:VEVENT
BEGIN:VTIMEZONE
TZID:Europe/Berlin
X-LIC-LOCATION:Europe/Berlin
BEGIN:DAYLIGHT
DTSTART:20250330T030000
TZOFFSETFROM:+0100
TZOFFSETTO:+0200
TZNAME:CEST
END:DAYLIGHT
END:VTIMEZONE
END:VCALENDAR