BEGIN:VCALENDAR
VERSION:2.0
PRODID:-//wp-events-plugin.com//7.2.3.1//EN
TZID:Europe/Berlin
X-WR-TIMEZONE:Europe/BerlinBEGIN:VCALENDAR
VERSION:2.0
PRODID:-//wp-events-plugin.com//7.2.3.1//EN
TZID:Europe/Berlin
X-WR-TIMEZONE:Europe/Berlin
BEGIN:VEVENT
UID:0-2945@castelltreff.de
DTSTART;TZID=Europe/Berlin:20250928T113000
DTEND;TZID=Europe/Berlin:20250928T160000
DTSTAMP:20250925T071649Z
URL:https://castelltreff.de/events/gemeinsam-ins-kino-das-kanu-des-manitu/
SUMMARY:Gemeinsam ins Kino: "Das Kanu des Manitu"
DESCRIPTION:Nachdem es seit Beginn der gemeinsamen\nKinobesuche eher schwer
 e Kost gab\, hat Gudrun für den September-Termin eine Komödie ausgewähl
 t: "Das Kanu des Manitu". Der Film läuft um 11.40 Uhr im Stern am\nBonner
  Markt und dauert 88 Minuten. Wir treffen uns wie immer kurz vorher und je
 der kauft seine\nKarte selbst.\nDer Film: Abahachi\, Häuptling der Apache
 n (Michael Bully Herbig) und sein weißer Blutsbruder Ranger (Christian Tr
 amitz) kämpfen unermütlich für Frieden und Gerechtigkeit\, doch eine ne
 ue\,\naufstrebende Bande macht ihnen das Leben schwer. Sie lockt die beide
 n in eine Falle\, um an das\nsagenumwobene „Kanu des Manitu“ zu gelang
 en. Erst in letzter Sekunde können sie von ihrem\ntreuen Weggefährten Di
 mitri und seiner neuen Fachkraft Mary gerettet werden. Doch wie sich\nhera
 usstellt\, war das alles Teil eines großen Plans und auch erst der Anfang
 . Mit vereinten Kräften\,\nallerlei Meinungsverschiedenheiten und Missver
 ständnissen stürzen sich die Helden in ihr größtes\nAbenteuer und find
 en überraschende Antworten auf die allerwichtigsten Fragen des Lebens.\n\
 nDa am Wochenende auf dem Markt- und Münsterplatz das Bonner Stadtfest st
 attfindet\, verzichtet Gudrun diesmal auf die Reservierung eines Tisches f
 ür den Austausch nach dem Film. Wer Lust hat\, macht sich gemeinsam auf d
 ie Suche nach einem netten Plätzchen auf dem Fest oder drumherum.\n\nWege
 n der Platzreservierungen ist eine Anmeldung notwendig per Mail an Gudrun 
 Wagner direkt: gwagner@gmx.de.
ATTACH;FMTTYPE=image/jpeg:https://castelltreff.de/wp-content/uploads/2025/
 09/das-kanu-des-manitu.500.jpg
CATEGORIES:öffentlich
END:VEVENT
BEGIN:VTIMEZONE
TZID:Europe/Berlin
X-LIC-LOCATION:Europe/Berlin
BEGIN:DAYLIGHT
DTSTART:20250330T030000
TZOFFSETFROM:+0100
TZOFFSETTO:+0200
TZNAME:CEST
END:DAYLIGHT
END:VTIMEZONE
END:VCALENDAR