BEGIN:VCALENDAR
VERSION:2.0
PRODID:-//wp-events-plugin.com//7.2.3.1//EN
TZID:Europe/Berlin
X-WR-TIMEZONE:Europe/BerlinBEGIN:VCALENDAR
VERSION:2.0
PRODID:-//wp-events-plugin.com//7.2.3.1//EN
TZID:Europe/Berlin
X-WR-TIMEZONE:Europe/Berlin
BEGIN:VEVENT
UID:0-2388@castelltreff.de
DTSTART;TZID=Europe/Berlin:20250126T131500
DTEND;TZID=Europe/Berlin:20250126T170000
DTSTAMP:20250123T135910Z
URL:https://castelltreff.de/events/gemeinsam-ins-kino/
SUMMARY:Gemeinsam ins Kino
DESCRIPTION:Hallo liebe Kino-Interessierte\,\n\nnun ist es soweit: unser 1.
  Kino-Sonntag am 26.01.25 steht an. Ich möchte gerne mit Euch zusammen De
 r Buchspazierer in der Neuen Filmbühne in Beuel\, Friedrich-Breuer-Str. 6
 8 um 13.15 Uhr ansehen.\n\nDer Buchspazierer ist ein deutscher Spielfilm v
 on 2024 mit Christoph Maria Herbst und Yuna Bennett in den Hauptrollen. Re
 gisseur und Kameramann ist Ngo The Chau (geb. 1977 in Hanoi\, Vietnam)\, d
 as Drehbuch von Andi Rogenhagen basiert auf dem 2020 veröffentlichten gle
 ichnamigen Roman von Carsten Sebastian Henn.\n\nInhaltlich geht es um den 
 70-jährigen Buchhändler Carl Kollhoff\, der täglich Bücher zu Fuß an 
 seine z.T. skurrilen Stammkunden ausliefert. Eines Tages gesellt sich die 
 neunjährige Schascha dazu\, die ihn von da an regelmäßig begleitet. Doc
 h das Ganze findet ein abruptes Ende\, als Carl gekündigt wird... Dies is
 t natürlich nicht das Ende des Films\, für den Ch.M.Herbst 2024 den Bayr
 ischen Filmpreis in der Kategorie Bester Darsteller erhielt.\n\nDer Film d
 auert 98 Minuten\, mit Werbung und Vorspann also geschätzte 2 Stunden. De
 r Eintritt kostet € 10\,-\, ermäßigt € 9\,-. Für diejenigen\, die L
 ust haben\, danach noch über den Film (oder Anderes) zu reden\, würde ic
 h in einem der Cafés in der Nähe einen Tisch reservieren. Dazu müsste i
 ch wissen\, wie viele Personen noch mitgehen möchten. Deshalb bitte ich E
 uch\, mir zusätzlich zur Anmeldung auch mitzuteilen\, ob Ihr anschließen
 d dabei seid. Wenn Ihr Euch per Mail anmeldet\, nehme ich Euch in den Vert
 eiler auf\, sofern Ihr damit einverstanden seid.\n\nAnmeldungen bitte an:\
 nGudrun Wagner\nTel. 0228-44 66 09 37\nmobil 0172-77 24 018\ngwagner@gmx.d
 e\n\nP.S. Der nächste Termin fürs Sonntagskino wäre der 23.02.25\, sowe
 it möglich immer der 4. Sonntag im Monat.
ATTACH;FMTTYPE=image/jpeg:https://castelltreff.de/wp-content/uploads/2025/
 01/Kino-quadratisch.Pixabay.jpg
CATEGORIES:öffentlich
END:VEVENT
BEGIN:VTIMEZONE
TZID:Europe/Berlin
X-LIC-LOCATION:Europe/Berlin
BEGIN:STANDARD
DTSTART:20241027T020000
TZOFFSETFROM:+0200
TZOFFSETTO:+0100
TZNAME:CET
END:STANDARD
END:VTIMEZONE
END:VCALENDAR