BEGIN:VCALENDAR
VERSION:2.0
PRODID:-//wp-events-plugin.com//7.2.3.1//EN
TZID:Europe/Berlin
X-WR-TIMEZONE:Europe/BerlinBEGIN:VCALENDAR
VERSION:2.0
PRODID:-//wp-events-plugin.com//7.2.3.1//EN
TZID:Europe/Berlin
X-WR-TIMEZONE:Europe/Berlin
BEGIN:VEVENT
UID:0-1863@castelltreff.de
DTSTART;TZID=Europe/Berlin:20241219T180000
DTEND;TZID=Europe/Berlin:20241219T200000
DTSTAMP:20241124T203340Z
URL:https://castelltreff.de/events/goethe-fuer-anfaenger-2024-12-19/
SUMMARY:Goethe für Anfänger
DESCRIPTION:Die Germanistin Irmgard Wallraff lädt dazu ein\, in geselliger
  Runde unsere altehrwürdigen Dichter auf spielerische Art – neu – zu 
 entdecken. Die Treffen finden jeweils am dritten Donnerstag eines Monats s
 tatt. Achtung: Diesmal geht es angesichts der winterlichen Unwirtlichkeit 
 schon um 18 Uhr los!\n\nThema diesmal: "Goethe und der liebe Gott." Anhand
  von Beispielen seiner Dichtung werden wir erforschen\, wie Goethes Verhä
 ltnis zum Göttlichen aussah: Kann man ihn als gläubig bezeichnen?\nWomö
 glich in einem christlichen Sinne? Oder sah er das Göttliche mehr in\nder
  Natur und lehnte eine personale Transzendenz ab? Natürlich können\nwir 
 diese Fragen nicht endgültig klären\, aber uns auf die Spur dahin\nbegeb
 en. Es wird auch wieder viel Raum für Austausch und persönliche\nMeinung
 en geben\, und natürlich einen heißen Tee.\n\nBitte neben Neugier Papier
  und Stift mitbringen.\nKostenbeitrag 3 Euro pro Person und Abend.
ATTACH;FMTTYPE=image/jpeg:https://castelltreff.de/wp-content/uploads/2024/
 07/IMG_E2892-scaled.jpg
CATEGORIES:öffentlich
END:VEVENT
BEGIN:VTIMEZONE
TZID:Europe/Berlin
X-LIC-LOCATION:Europe/Berlin
BEGIN:STANDARD
DTSTART:20241027T020000
TZOFFSETFROM:+0200
TZOFFSETTO:+0100
TZNAME:CET
END:STANDARD
END:VTIMEZONE
END:VCALENDAR