BEGIN:VCALENDAR
VERSION:2.0
PRODID:-//wp-events-plugin.com//7.2.3.1//EN
TZID:Europe/Berlin
X-WR-TIMEZONE:Europe/BerlinBEGIN:VCALENDAR
VERSION:2.0
PRODID:-//wp-events-plugin.com//7.2.3.1//EN
TZID:Europe/Berlin
X-WR-TIMEZONE:Europe/Berlin
BEGIN:VEVENT
UID:0-3532@castelltreff.de
DTSTART;TZID=Europe/Berlin:20260712T110000
DTEND;TZID=Europe/Berlin:20260712T130000
DTSTAMP:20260303T222227Z
URL:https://castelltreff.de/events/haekel-treff-mit-virginie-des-projekts-
 anders-sehen-inklusiv-gestalten-2-2026-06-14-2026-07-12/
SUMMARY:"Häkel-Treff mit Virginie" des Projekts „Anders sehen – inklus
 iv gestalten“
DESCRIPTION:„Wir glauben\, dass Fäden Menschen verbinden. In entspannter
  Atmosphäre entsteht Raum für Begegnung\, Kreativität und kleine Glück
 smomente“\, so das Projekt "Anders sehen - inklusiv gestalten. Begegnung
  und Kultur in Vielfalt"*. Der Castelltreff unterstützt diese Idee sehr g
 ern!\n\nOb Anfänger*in oder Fortgeschritten – alle sind herzlich willko
 mmen! Bring dein Strickzeug\, dein aktuelles Projekt oder einfach Lust auf
  Begegnung mit. In entspannter Atmosphäre schaffen wir gemeinsam Raum fü
 r Kreativität\, Gemeinschaft und Vielfalt.\n\nBei Bedarf kann Material zu
 r Verfügung gestellt werden. Wir freuen uns über Spenden von Wolle oder 
 Zubehör\, dies ist jedoch kein Muss.\n\nDie Teilnahme ist kostenlos\, ein
 e Anmeldung nicht erforderlich.
ATTACH;FMTTYPE=image/jpeg:https://castelltreff.de/wp-content/uploads/2026/
 03/Haekeln.500.jpg
CATEGORIES:öffentlich
END:VEVENT
BEGIN:VTIMEZONE
TZID:Europe/Berlin
X-LIC-LOCATION:Europe/Berlin
BEGIN:DAYLIGHT
DTSTART:20260329T030000
TZOFFSETFROM:+0100
TZOFFSETTO:+0200
TZNAME:CEST
END:DAYLIGHT
END:VTIMEZONE
END:VCALENDAR