BEGIN:VCALENDAR
VERSION:2.0
PRODID:-//wp-events-plugin.com//7.2.3.1//EN
TZID:Europe/Berlin
X-WR-TIMEZONE:Europe/BerlinBEGIN:VCALENDAR
VERSION:2.0
PRODID:-//wp-events-plugin.com//7.2.3.1//EN
TZID:Europe/Berlin
X-WR-TIMEZONE:Europe/Berlin
BEGIN:VEVENT
UID:0-3319@castelltreff.de
DTSTART;TZID=Europe/Berlin:20260120T133000
DTEND;TZID=Europe/Berlin:20260120T160000
DTSTAMP:20251219T195117Z
URL:https://castelltreff.de/events/haus-der-geschichte-fuehrung-durch-die-
 neue-ausstellung/
SUMMARY:Haus der Geschichte: Führung durch die neue Ausstellung
DESCRIPTION:Heute gibt es für die Casteller Nachbarschaft eine 90minütige
  Führung durch die nigelnagelneue Dauerausstellung im Haus der Geschichte
  "Du bist Teil der Geschichte. Deutschland seit 1945"\nAnschließend geht 
 es noch gemeinsam zu einer kleinen Stärkung in ein Café.\n\nDie Führung
  startet pünktlich um 13:30 Uhr. Bitte 15 Minuten vorher da sein. Taschen
  und Jacken müssen abgegeben werden.\n\nKostenbeitrag für Führung und I
 mbiss: 5 € pro Person\nAnmeldung notwendig\; bitte an events@castelltref
 f.de oder 0172 2521795
ATTACH;FMTTYPE=image/jpeg:https://castelltreff.de/wp-content/uploads/2025/
 12/Haus-der-Geschichte.jpg
CATEGORIES:öffentlich
END:VEVENT
BEGIN:VTIMEZONE
TZID:Europe/Berlin
X-LIC-LOCATION:Europe/Berlin
BEGIN:STANDARD
DTSTART:20251026T020000
TZOFFSETFROM:+0200
TZOFFSETTO:+0100
TZNAME:CET
END:STANDARD
END:VTIMEZONE
END:VCALENDAR