BEGIN:VCALENDAR
VERSION:2.0
PRODID:-//wp-events-plugin.com//7.2.3.1//EN
TZID:Europe/Berlin
X-WR-TIMEZONE:Europe/BerlinBEGIN:VCALENDAR
VERSION:2.0
PRODID:-//wp-events-plugin.com//7.2.3.1//EN
TZID:Europe/Berlin
X-WR-TIMEZONE:Europe/Berlin
BEGIN:VEVENT
UID:0-2969@castelltreff.de
DTSTART;TZID=Europe/Berlin:20251109T150000
DTEND;TZID=Europe/Berlin:20251109T170000
DTSTAMP:20251030T200659Z
URL:https://castelltreff.de/events/kloenschnack-mitten-im-rheinland/
SUMMARY:Klönschnack in Castell
DESCRIPTION:Die Freundinnen und Freunde des Plattdeutschen treffen sich im 
 Castelltreff bei Friesentee mit Sahnewölkchen und schnacken nach Herzensl
 ust über alles\, was die Welt bewegt. Vielleicht klemmt auch jemand ein B
 üchlein von seinem oder ihrem plattdeutschen Lieblingsautor unter den Arm
  und gibt etwas von Fritz Reuter\, Klaus Groth oder Rudolf Tarnow zum Best
 en. In der rheinischen Diaspora bieten wir eine Heimstatt für Norddeutsch
 e von Geblüt oder Geist. Kiek mal in!\nKontakt: 0228 677046
ATTACH;FMTTYPE=image/jpeg:https://castelltreff.de/wp-content/uploads/2025/
 10/Teetasse-766847_640.pixabay.jpg
CATEGORIES:öffentlich
END:VEVENT
BEGIN:VTIMEZONE
TZID:Europe/Berlin
X-LIC-LOCATION:Europe/Berlin
BEGIN:STANDARD
DTSTART:20251026T020000
TZOFFSETFROM:+0200
TZOFFSETTO:+0100
TZNAME:CET
END:STANDARD
END:VTIMEZONE
END:VCALENDAR