BEGIN:VCALENDAR
VERSION:2.0
PRODID:-//wp-events-plugin.com//7.2.3.1//EN
TZID:Europe/Berlin
X-WR-TIMEZONE:Europe/BerlinBEGIN:VCALENDAR
VERSION:2.0
PRODID:-//wp-events-plugin.com//7.2.3.1//EN
TZID:Europe/Berlin
X-WR-TIMEZONE:Europe/Berlin
BEGIN:VEVENT
UID:0-1773@castelltreff.de
DTSTART;TZID=Europe/Berlin:20240514T170000
DTEND;TZID=Europe/Berlin:20240514T190000
DTSTAMP:20240428T210403Z
URL:https://castelltreff.de/events/kloenschnack-uem-klock-fief-plattdeutsc
 h-im-castelltreff/
SUMMARY:Klönschnack üm Klock fief - Plattdeutsch im Castelltreff
DESCRIPTION:Heute wird erstmals in für Rheinländer schwer zu entschlüsse
 lndem nordischem Platt alles besprochen\, was das norddeutsche Herz in der
  Diaspora so bewegt. Alle Imis mit entsprechender sprachlicher Kompetenz s
 ind – hoffentlich auf der Terrasse und natürlich bei einem ordentlichen
  Friesentee – herzlich willkommen!
ATTACH;FMTTYPE=image/jpeg:https://castelltreff.de/wp-content/uploads/2024/
 04/Teedose.500.jpg
CATEGORIES:öffentlich
END:VEVENT
BEGIN:VTIMEZONE
TZID:Europe/Berlin
X-LIC-LOCATION:Europe/Berlin
BEGIN:DAYLIGHT
DTSTART:20240331T030000
TZOFFSETFROM:+0100
TZOFFSETTO:+0200
TZNAME:CEST
END:DAYLIGHT
END:VTIMEZONE
END:VCALENDAR