BEGIN:VCALENDAR
VERSION:2.0
PRODID:-//wp-events-plugin.com//7.2.3.1//EN
TZID:Europe/Berlin
X-WR-TIMEZONE:Europe/BerlinBEGIN:VCALENDAR
VERSION:2.0
PRODID:-//wp-events-plugin.com//7.2.3.1//EN
TZID:Europe/Berlin
X-WR-TIMEZONE:Europe/Berlin
BEGIN:VEVENT
UID:1-1139@castelltreff.de
DTSTART;TZID=Europe/Berlin:20230810T160000
DTEND;TZID=Europe/Berlin:20230810T170000
DTSTAMP:20230815T214636Z
URL:https://castelltreff.de/events/kommtanzmit-2023-08-10/
SUMMARY:KOMMTANZMIT
DESCRIPTION:Lass dich von anregender Musik inspirieren und bewegen. Ohne Sc
 hrittvorgaben\, einfach so\, wie es für dich gerade stimmt. Komm und tanz
  mit für mehr Energie\, Kraft und Lebensfreude. Kursleiterin ist die Tanz
 therapeutin Rita Bergmann.\n\nEs handelt sich nicht um einen festen Kurs\;
  man kann also jederzeit dazukommen.\nOrt ist der Castelltreff\, Graurhein
 dorfer Straße 29\, 53117 Bonn.\nEine Anmeldung ist nicht notwendig\, aber
  erwünscht unter 01520 198 4877 oder an events@castelltreff.de.\nStatt ei
 ner Veranstaltungsgebühr freuen wir uns über eine Spende für den Erhalt
  des Treffs.\nDie Reihe endet mit dem 14.9..
ATTACH;FMTTYPE=image/jpeg:https://castelltreff.de/wp-content/uploads/2023/
 07/Tanzen-Bergmann.7-23.jpg
CATEGORIES:öffentlich
END:VEVENT
BEGIN:VTIMEZONE
TZID:Europe/Berlin
X-LIC-LOCATION:Europe/Berlin
BEGIN:DAYLIGHT
DTSTART:20230326T030000
TZOFFSETFROM:+0100
TZOFFSETTO:+0200
TZNAME:CEST
END:DAYLIGHT
END:VTIMEZONE
END:VCALENDAR