BEGIN:VCALENDAR
VERSION:2.0
PRODID:-//wp-events-plugin.com//7.2.3.1//EN
TZID:Europe/Berlin
X-WR-TIMEZONE:Europe/BerlinBEGIN:VCALENDAR
VERSION:2.0
PRODID:-//wp-events-plugin.com//7.2.3.1//EN
TZID:Europe/Berlin
X-WR-TIMEZONE:Europe/Berlin
BEGIN:VEVENT
UID:0-134@castelltreff.de
DTSTART;TZID=Europe/Berlin:20230529T133000
DTEND;TZID=Europe/Berlin:20230529T150000
DTSTAMP:20230524T151324Z
URL:https://castelltreff.de/events/krabbelgruppe-im-castelltreff-2023-05-2
 9/
SUMMARY:Keine Krabbelgruppe am Pfingstmontag!
DESCRIPTION:Die Krabbelgruppe entfällt am Feiertag. Sie trifft sich ansons
 ten jeden Montag im Castelltreff\, Graurheindorfer Str. 29.\nEine Anmeldun
 g ist nicht erforderlich.\nKontakt: Laura 015782924736
CATEGORIES:öffentlich
END:VEVENT
BEGIN:VTIMEZONE
TZID:Europe/Berlin
X-LIC-LOCATION:Europe/Berlin
BEGIN:DAYLIGHT
DTSTART:20230326T030000
TZOFFSETFROM:+0100
TZOFFSETTO:+0200
TZNAME:CEST
END:DAYLIGHT
END:VTIMEZONE
END:VCALENDAR