BEGIN:VCALENDAR
VERSION:2.0
PRODID:-//wp-events-plugin.com//7.2.3.1//EN
TZID:Europe/Berlin
X-WR-TIMEZONE:Europe/BerlinBEGIN:VCALENDAR
VERSION:2.0
PRODID:-//wp-events-plugin.com//7.2.3.1//EN
TZID:Europe/Berlin
X-WR-TIMEZONE:Europe/Berlin
BEGIN:VEVENT
UID:0-550@castelltreff.de
DTSTART;TZID=Europe/Berlin:20230518T140000
DTEND;TZID=Europe/Berlin:20230518T150000
DTSTAMP:20230515T123451Z
URL:https://castelltreff.de/events/kraeuterspaziergang-durch-castell/
SUMMARY:Wildkräuterspaziergang durch Castell
DESCRIPTION:Wat is dat\, wofür is dat joot\, wat kann mer damit maache?\n\
 nMit offenen Augen durch den Stadtteil: Bei einem Spaziergang lernen wir d
 as oft unscheinbare oder versteckt wachsende Grünzeug in Castell kennen.\
 n\nAuch Fragen zum Gärtnern  können gestellt werden.\n\nTreffpunkt: 14 
 Uhr  im Castelltreff\, Graurheindorfer Straße 29.
CATEGORIES:öffentlich
END:VEVENT
BEGIN:VTIMEZONE
TZID:Europe/Berlin
X-LIC-LOCATION:Europe/Berlin
BEGIN:DAYLIGHT
DTSTART:20230326T030000
TZOFFSETFROM:+0100
TZOFFSETTO:+0200
TZNAME:CEST
END:DAYLIGHT
END:VTIMEZONE
END:VCALENDAR