BEGIN:VCALENDAR
VERSION:2.0
PRODID:-//wp-events-plugin.com//7.2.3.1//EN
TZID:Europe/Berlin
X-WR-TIMEZONE:Europe/BerlinBEGIN:VCALENDAR
VERSION:2.0
PRODID:-//wp-events-plugin.com//7.2.3.1//EN
TZID:Europe/Berlin
X-WR-TIMEZONE:Europe/Berlin
BEGIN:VEVENT
UID:0-2238@castelltreff.de
DTSTART;TZID=Europe/Berlin:20250102T190000
DTEND;TZID=Europe/Berlin:20250102T210000
DTSTAMP:20241206T233909Z
URL:https://castelltreff.de/events/literaturkreis-2-2025-01-02/
SUMMARY:Literaturkreis: "Tante Martl" von Ursula März
DESCRIPTION:Der Literaturkreis bespricht diesmal den Roman "Tante Martl" vo
 n Ursula März.  In ihrem von der Kritik gefeierten\, 2019 erschienenen e
 rsten Roman erzählt die Autorin von ihrer eigenen Patentante. Die lebt - 
 Volksschullehrerin unverheiratet und kinderlos - ihr Leben lang im Elternh
 aus in der pfälzischen Provinz. Während ihre Schwestern eigene Familien 
 gründen\, entwickelt sie eine besondere Stärke und Unabhängigkeit. In d
 ieser Familienkonstellation spiegeln sich  exemplarisch die 50er und 60er
  Jahre der Bundesrepublik.\n\nWie an jedem ersten Donnerstag eines Monats 
 sind alle herzlich willkommen\, die mit diskutieren wollen.\n\nDie Anwesen
 den einigen sich jeweils auf das Buch\, das am ersten Donnerstag des komme
 nden Monats Thema sein soll.
ATTACH;FMTTYPE=image/jpeg:https://castelltreff.de/wp-content/uploads/2024/
 12/Tante-Martl.jpg
CATEGORIES:öffentlich
END:VEVENT
BEGIN:VTIMEZONE
TZID:Europe/Berlin
X-LIC-LOCATION:Europe/Berlin
BEGIN:STANDARD
DTSTART:20241027T020000
TZOFFSETFROM:+0200
TZOFFSETTO:+0100
TZNAME:CET
END:STANDARD
END:VTIMEZONE
END:VCALENDAR