BEGIN:VCALENDAR
VERSION:2.0
PRODID:-//wp-events-plugin.com//7.2.3.1//EN
TZID:Europe/Berlin
X-WR-TIMEZONE:Europe/BerlinBEGIN:VCALENDAR
VERSION:2.0
PRODID:-//wp-events-plugin.com//7.2.3.1//EN
TZID:Europe/Berlin
X-WR-TIMEZONE:Europe/Berlin
BEGIN:VEVENT
UID:0-2239@castelltreff.de
DTSTART;TZID=Europe/Berlin:20250206T190000
DTEND;TZID=Europe/Berlin:20250206T210000
DTSTAMP:20250105T074312Z
URL:https://castelltreff.de/events/literaturkreis-2-2025-02-06/
SUMMARY:Literaturkreis: "Über die See"
DESCRIPTION:Der letzte Literaturkreis hat für das Februar-Treffen den Roma
 n "Über die See" von Mariette Navarro ausgewählt.\n\nDer Verlag: "Die Be
 satzung eines Containerschiffs möchte einmal mitten auf dem offenen Meer 
 schwimmen gehen. Ihre Kapitänin lässt sich tatsächlich darauf ein … W
 ie sich behaupten und gleichzeitig in Frage stellen\, davon erzählt diese
 r wunderbar sinnliche Roman aus Frankreich\, der u.a. mit dem Prix Léonor
 a Miano ausgezeichnet wurde. »Erst hängen sie in der Luft. Dann tauchen 
 sie zum allerersten Mal beide Füße in den Ozean. Sie gleiten hinein. Tau
 sende Kilometer von jedem Strand entfernt.« Auf einer Fahrt in die Tropen
 \, kurz hinter den Azoren richtet die Besatzung eines Containerschiffs ein
 e ungewöhnliche Bitte an die Kapitänin: Sie möchten hier\, auf dem offe
 nen Meer\, schwimmen gehen. Das hat es noch nie gegeben. Zu ihrer eigenen 
 Überraschung lässt die Kapitänin es zu. Sie bleibt allein auf dem Schif
 f\, mit all den Zweifeln\, ob sie das Richtige entschieden hat. Werden die
  Männer zurückkommen? Das Schiff wird immer langsamer\, ein mysteriöser
  Nebel kommt auf. Wieso kann die Kapitänin auf einmal das Herz des Schiff
 es schlagen hören? Und warum drängt sich ausgerechnet jetzt ihr Vater in
  die Erinnerung\, der einst selbst zur See fuhr und seit einer Überfahrt 
 kein Wort mehr sprach?"\n\nDer Literaturkreis ist stets für neue Teilnehm
 er*innen offen. Die Anwesenden einigen sich jeweils auf das Buch\, das am 
 ersten Donnerstag des kommenden Monats Thema sein soll.
ATTACH;FMTTYPE=image/jpeg:https://castelltreff.de/wp-content/uploads/2025/
 01/Ueber-die-See500.jpg
CATEGORIES:öffentlich
END:VEVENT
BEGIN:VTIMEZONE
TZID:Europe/Berlin
X-LIC-LOCATION:Europe/Berlin
BEGIN:STANDARD
DTSTART:20241027T020000
TZOFFSETFROM:+0200
TZOFFSETTO:+0100
TZNAME:CET
END:STANDARD
END:VTIMEZONE
END:VCALENDAR