BEGIN:VCALENDAR
VERSION:2.0
PRODID:-//wp-events-plugin.com//7.2.3.1//EN
TZID:Europe/Berlin
X-WR-TIMEZONE:Europe/BerlinBEGIN:VCALENDAR
VERSION:2.0
PRODID:-//wp-events-plugin.com//7.2.3.1//EN
TZID:Europe/Berlin
X-WR-TIMEZONE:Europe/Berlin
BEGIN:VEVENT
UID:0-2245@castelltreff.de
DTSTART;TZID=Europe/Berlin:20250904T190000
DTEND;TZID=Europe/Berlin:20250904T203000
DTSTAMP:20250814T214517Z
URL:https://castelltreff.de/events/literaturkreis-2-2025-08-07/
SUMMARY:Literaturkreis diskutiert über "Monschau" von Steffen Kopetzky
DESCRIPTION:Der Literaturkreis befasst sich diesmal mit dem Roman "Monschau
 ". Der renommierte Autor Steffen Kopetzky veröffentlichte ihn mitten in d
 er Corona-Pandemie im Jahr 2021.\n\nDer Klappentext: Im Jahr 1962\, als da
 s nukleare Wettrüsten seinen Höhepunkt erreicht\, als in Algier und Pari
 s Bomben explodieren\, bricht im Wirtschaftswunder-Deutschland der junge M
 ediziner Nikolaos Spyridakis in die Eifel auf. Es ist eine heikle Mission:
  Im Kreis Monschau sind die Pocken ausgebrochen\, hochansteckend und leben
 sgefährlich. Mitten im Karneval droht nun Stillstand\, Quarantäne. Der R
 ither-Chef will die Fabrik um jeden Preis offen halten\, keine zwanzig Jah
 re nach Ende des Zweiten Weltkriegs ist man weltweit gut im Geschäft. Gan
 z andere Pläne hegt Vera Rither: Die Alleinerbin studiert in Paris\, bewu
 ndert Simone de Beauvoir und trägt den Geist der Avantgarde nach Monschau
 . Dort begegnet sie Nikolaos\, der als Betriebsarzt durch die tiefverschne
 ite Eifel zur Patientenvisite gefahren wird\, vor Ansteckung geschützt du
 rch einen Stahlarbeiteranzug. So unterschiedlich die beiden auch sind\, de
 r kretische Arzt\, der als Kind die Gräuel der deutschen Besatzung miterl
 ebt hat\, und die schwerreiche Vollwaise: Sie entdecken schnell\, dass sie
  mehr verbindet als ihre Liebe zu Miles Davis. Doch die Krankheitsfälle h
 äufen sich\, und das Virus nimmt sich\, was es kriegen kann. Steffen Kope
 tzky erzählt von einer Liebe im Ausnahmezustand und von der jungen\, vom 
 rasanten Wirtschaftswachstum geprägten Bundesrepublik - und verwandelt ei
 n Kapitel deutscher Geschichte in packende Literatur.\n\nDer Literaturkrei
 s ist stets für neue Teilnehmer*innen offen. Die Anwesenden einigen sich 
 jeweils auf das Buch\, das am ersten Donnerstag des kommenden Monats Thema
  sein soll.
ATTACH;FMTTYPE=image/jpeg:https://castelltreff.de/wp-content/uploads/2025/
 06/Monschau-aus-SZ.jpg
CATEGORIES:öffentlich
END:VEVENT
BEGIN:VTIMEZONE
TZID:Europe/Berlin
X-LIC-LOCATION:Europe/Berlin
BEGIN:DAYLIGHT
DTSTART:20250330T030000
TZOFFSETFROM:+0100
TZOFFSETTO:+0200
TZNAME:CEST
END:DAYLIGHT
END:VTIMEZONE
END:VCALENDAR