BEGIN:VCALENDAR
VERSION:2.0
PRODID:-//wp-events-plugin.com//7.2.3.1//EN
TZID:Europe/Berlin
X-WR-TIMEZONE:Europe/BerlinBEGIN:VCALENDAR
VERSION:2.0
PRODID:-//wp-events-plugin.com//7.2.3.1//EN
TZID:Europe/Berlin
X-WR-TIMEZONE:Europe/Berlin
BEGIN:VEVENT
UID:0-2247@castelltreff.de
DTSTART;TZID=Europe/Berlin:20251002T190000
DTEND;TZID=Europe/Berlin:20251002T203000
DTSTAMP:20250905T123712Z
URL:https://castelltreff.de/events/literaturkreis-2-2025-10-02/
SUMMARY:Literaturkreis zu "Trophäe"
DESCRIPTION:Der Literaturkreis wird sich diesmal mit dem Roman "Trophäe" d
 er belgischen Autorin Gaea Schoeters befassen. Das im vergangenen Jahr ers
 chienene Buch wurde von der Kritik hymnisch für seine Spannung und Sprach
 gewalt gefeiert.\n\nDer Verlag schreibt:\n"Gaea Schoeters’ Roman ist ein
  „ethischer Mindfuck“ (Dimitri Verhulst) – provokant\, radikal und e
 ine erzählerische Ausnahmeerscheinung. Am Ende bleibt die Frage: Was ist 
 ein Menschenleben wert?Gaea Schoetersʼ preisgekrönter Roman ist von eine
 r außerordentlichen erzählerischen Wucht. Die Tiefenschärfe\, mit der s
 ie die Geräusche und Gerüche der Natur beschreibt\, lässt einen sinnlic
 h erleben\, was einen moralisch an die Grenzen zwischen Richtig und Falsch
  führt.\nHunter\, steinreich\, Amerikaner und begeisterter Jäger\, hatte
  schon fast alles vor dem Lauf. Endlich bietet ihm sein Freund Van Heeren 
 ein Nashorn zum Abschuss an. Hunter reist nach Afrika\, doch sein Projekt\
 , die Big Five vollzumachen\, wird jäh von Wilderern durchkreuzt. Hunter 
 sinnt auf Rache\, als ihn Van Heeren fragt\, ob er schon einmal von den Bi
 g Six gehört habe. Zunächst ist Hunter geschockt\, aber als er die junge
 n Afrikaner beim flinken Jagen beobachtet … Ein Roman von radikaler Kons
 equenz."\n\nDer Literaturkreis ist stets für neue Teilnehmer*innen offen.
  Die Anwesenden einigen sich jeweils auf das Buch\, das am ersten Donnerst
 ag des kommenden Monats Thema sein soll.
ATTACH;FMTTYPE=image/jpeg:https://castelltreff.de/wp-content/uploads/2025/
 09/Trophaee.500.jpg
CATEGORIES:öffentlich
END:VEVENT
BEGIN:VTIMEZONE
TZID:Europe/Berlin
X-LIC-LOCATION:Europe/Berlin
BEGIN:DAYLIGHT
DTSTART:20250330T030000
TZOFFSETFROM:+0100
TZOFFSETTO:+0200
TZNAME:CEST
END:DAYLIGHT
END:VTIMEZONE
END:VCALENDAR