BEGIN:VCALENDAR
VERSION:2.0
PRODID:-//wp-events-plugin.com//7.2.3.1//EN
TZID:Europe/Berlin
X-WR-TIMEZONE:Europe/BerlinBEGIN:VCALENDAR
VERSION:2.0
PRODID:-//wp-events-plugin.com//7.2.3.1//EN
TZID:Europe/Berlin
X-WR-TIMEZONE:Europe/Berlin
BEGIN:VEVENT
UID:0-2248@castelltreff.de
DTSTART;TZID=Europe/Berlin:20251106T190000
DTEND;TZID=Europe/Berlin:20251106T203000
DTSTAMP:20251005T120537Z
URL:https://castelltreff.de/events/literaturkreis-2-2025-11-06/
SUMMARY:Literaturkreis zu Husch Jostens "Die Gleichzeitigkeit der Dinge"
DESCRIPTION:Der Literaturkreis befasst sich diesmal mit dem Buch von Husch 
 Josten "Die Gleichzeitigkeit der Dinge". Das Buch von 2024 ist als Taschen
 buch für € 14\,- zu haben und umfasst 224 Seiten.\n\nJean Tobelmann\, G
 astronom in dritter Generation\, hat einen eigenwilligen jungen Stammgast\
 , der mit leidenschaftlichem Ernst erforscht\, wovon die meisten Menschen 
 lieber schweigen: das Ende des Lebens. Tobelmann vesucht herauszubekommen\
 , woher dieses Interesse rührt\, und geht der Geschichte des humorvollen 
 Exzentrikers auf den Grund.\n\n"Schwerelos\, mit feiner Ironie und Beobach
 tungsgabe erzählt Husch Josten von den Fallstricken des Lebens. Von wahre
 r Freundschaft\, falschen Entscheidungen\, der Suche nach Sinn und von der
  Liebe"\, so der Verlag. In der Aachener Zeitung vom 8. September 2024 sch
 reibt Peter Stollenwerk: "... ein großartiges Werk über das Leben\, Ster
 ben und Lieben - eben über die Gleichzeitigket der Dinge".\n\nDer Literat
 urkreis ist immer offen für neue Teilnehmer*innen. Gemeinsam beschließt 
 man über die Lektüre für das nächste Treffen - immer am ersten Donners
 tag eines Monats.
ATTACH;FMTTYPE=image/jpeg:https://castelltreff.de/wp-content/uploads/2025/
 10/Husch-Josten.500.jpg
CATEGORIES:öffentlich
END:VEVENT
BEGIN:VTIMEZONE
TZID:Europe/Berlin
X-LIC-LOCATION:Europe/Berlin
BEGIN:STANDARD
DTSTART:20251026T020000
TZOFFSETFROM:+0200
TZOFFSETTO:+0100
TZNAME:CET
END:STANDARD
END:VTIMEZONE
END:VCALENDAR