BEGIN:VCALENDAR
VERSION:2.0
PRODID:-//wp-events-plugin.com//7.2.3.1//EN
TZID:Europe/Berlin
X-WR-TIMEZONE:Europe/BerlinBEGIN:VCALENDAR
VERSION:2.0
PRODID:-//wp-events-plugin.com//7.2.3.1//EN
TZID:Europe/Berlin
X-WR-TIMEZONE:Europe/Berlin
BEGIN:VEVENT
UID:0-2249@castelltreff.de
DTSTART;TZID=Europe/Berlin:20251204T190000
DTEND;TZID=Europe/Berlin:20251204T203000
DTSTAMP:20251107T193711Z
URL:https://castelltreff.de/events/literaturkreis-2-2025-12-04/
SUMMARY:Literaturkreis: „Weihnachten ohne Parfüm“ von Gabriele Wohmann
DESCRIPTION:Passend zur Adventszeit dreht sich im Literaturkreis diesmal al
 les um den Erzählband „Weihnachten ohne Parfüm“ von Gabriele Wohmann
  (208 Seiten\, € 15). Thema aller Erzählungen ist das „Fest der guten
  Absichten. ... Alle wollen das Beste für sich und ihre Lieben und gleich
 zeitig fürchten sie sich vor den Feiertagen und voraussehbaren Enttäusch
 ungen und Katastrophen. Fast jeder möchte dem Besinnlichkeitsstress entko
 mmen\, aber niemand traut sich\, es dem anderen einzugestehen. So hält ma
 n tapfer den Vorfreudeschein aufrecht … Und\, o Wunder\, am Ende wird tr
 otzdem alles irgendwie gut\, selbst wenn es schiefgeht.“ (aus dem Klappe
 ntext zum Buch)\n\nOrganisatorin Gudrun würde sich freuen\, wenn Teilnehm
 ende Lust hätten\, ihre Lieblingserzählung aus dem Band vorzustellen.\n\
 nBeim Literaturkreis entscheiden die Anwesenden jeweils über die nächste
  Lektüre. Beim letzten Treffen standen beispielsweise außer „Weihnacht
 en ohne Parfüm“ zwei weitereTitel zur Auswahl: „Weihnachtshaus“ von
  Zsuzsa Bánk und „Aurora“ von Sascha Reh.\n\n&nbsp\;
ATTACH;FMTTYPE=image/jpeg:https://castelltreff.de/wp-content/uploads/2025/
 11/Weihnachten-ohne-Parfuem.Ausschnitt.500.jpg
CATEGORIES:öffentlich
END:VEVENT
BEGIN:VTIMEZONE
TZID:Europe/Berlin
X-LIC-LOCATION:Europe/Berlin
BEGIN:STANDARD
DTSTART:20251026T020000
TZOFFSETFROM:+0200
TZOFFSETTO:+0100
TZNAME:CET
END:STANDARD
END:VTIMEZONE
END:VCALENDAR