BEGIN:VCALENDAR
VERSION:2.0
PRODID:-//wp-events-plugin.com//7.2.3.1//EN
TZID:Europe/Berlin
X-WR-TIMEZONE:Europe/BerlinBEGIN:VCALENDAR
VERSION:2.0
PRODID:-//wp-events-plugin.com//7.2.3.1//EN
TZID:Europe/Berlin
X-WR-TIMEZONE:Europe/Berlin
BEGIN:VEVENT
UID:0-3052@castelltreff.de
DTSTART;TZID=Europe/Berlin:20260305T190000
DTEND;TZID=Europe/Berlin:20260305T203000
DTSTAMP:20260206T224558Z
URL:https://castelltreff.de/events/literaturkreis-4-2026-02-05-2026-03-05/
SUMMARY:Literaturkreis
DESCRIPTION:Heute geht es um den Roman "Wir sehen uns im August" von Gabrie
 l García Márquez. Das Werk wurde im Nachlass des 2014 verstorbenen Autor
 s gefunden\, der vor allem durch "Hundert Jahre Einsamkeit" bekannt wurde.
  1982 erhielt der Kolumbianer den Nobelpreis für Literatur.\nDas Buch hat
  als Taschenbuch 127 Seiten.\nBitte vormerken: Der Literaturkreis trifft s
 ich ab März alle zwei Monate\, also im Mai\, Juli\, September und Novembe
 r - wie immer am ersten Donnerstag eines Monats.\n\nDer Literaturkreis ist
  stets für neue Teilnehmer*innen offen. Die Anwesenden einigen sich jewei
 ls auf das Buch\, das beim nächsten Mal Thema sein soll.
ATTACH;FMTTYPE=image/jpeg:https://castelltreff.de/wp-content/uploads/2026/
 02/Wir-sehen-uns-im-August.442.jpg
CATEGORIES:öffentlich
END:VEVENT
BEGIN:VTIMEZONE
TZID:Europe/Berlin
X-LIC-LOCATION:Europe/Berlin
BEGIN:STANDARD
DTSTART:20251026T020000
TZOFFSETFROM:+0200
TZOFFSETTO:+0100
TZNAME:CET
END:STANDARD
END:VTIMEZONE
END:VCALENDAR