BEGIN:VCALENDAR
VERSION:2.0
PRODID:-//wp-events-plugin.com//7.2.3.1//EN
TZID:Europe/Berlin
X-WR-TIMEZONE:Europe/BerlinBEGIN:VCALENDAR
VERSION:2.0
PRODID:-//wp-events-plugin.com//7.2.3.1//EN
TZID:Europe/Berlin
X-WR-TIMEZONE:Europe/Berlin
BEGIN:VEVENT
UID:0-103@castelltreff.de
DTSTART;TZID=Europe/Berlin:20230202T190000
DTEND;TZID=Europe/Berlin:20230202T210000
DTSTAMP:20230515T124025Z
URL:https://castelltreff.de/events/literaturtreff-2023-02-02/
SUMMARY:Literaturtreff
DESCRIPTION:Es wird das Buch "Das Muschelessen" von Birgit Vanderbeke bespr
 ochen.\nAlle Casteller Literaturfreunde sind herzlich eingeladen\, sich an
  dem Gespräch zu beteiligen.
CATEGORIES:öffentlich
END:VEVENT
BEGIN:VTIMEZONE
TZID:Europe/Berlin
X-LIC-LOCATION:Europe/Berlin
BEGIN:STANDARD
DTSTART:20221030T020000
TZOFFSETFROM:+0200
TZOFFSETTO:+0100
TZNAME:CET
END:STANDARD
END:VTIMEZONE
END:VCALENDAR