BEGIN:VCALENDAR
VERSION:2.0
PRODID:-//wp-events-plugin.com//7.2.3.1//EN
TZID:Europe/Berlin
X-WR-TIMEZONE:Europe/BerlinBEGIN:VCALENDAR
VERSION:2.0
PRODID:-//wp-events-plugin.com//7.2.3.1//EN
TZID:Europe/Berlin
X-WR-TIMEZONE:Europe/Berlin
BEGIN:VEVENT
UID:0-2682@castelltreff.de
DTSTART;TZID=Europe/Berlin:20251217T170000
DTEND;TZID=Europe/Berlin:20251217T190000
DTSTAMP:20250604T183205Z
URL:https://castelltreff.de/events/offener-treff-2-2025-12-17/
SUMMARY:Offener Treff am Mittwoch
DESCRIPTION:Herzlichen Willkommen zu Kennenlernen\, Austausch\, Spielen!\nD
 er Castelltreff bietet dazu zwei Räume: Das Gartenzimmer\, das Zugang zur
  überglasten Terrasse und einen kleinen Garten bietet\, und ein "Spielezi
 mmer" zur Straße hin\, das vor allem für die Treffen kleiner Kreise und 
 externer Gruppen genutzt wird..\nDas ehrenamtliche Team freut sich auf ver
 traute und neue Gäste und sorgt für Kaffee\, Tee und mehr.
ATTACH;FMTTYPE=image/jpeg:https://castelltreff.de/wp-content/uploads/2022/
 09/Gartenzimmer.neu1_.IMG_2419-1.jpg
CATEGORIES:öffentlich
END:VEVENT
BEGIN:VTIMEZONE
TZID:Europe/Berlin
X-LIC-LOCATION:Europe/Berlin
BEGIN:STANDARD
DTSTART:20251026T020000
TZOFFSETFROM:+0200
TZOFFSETTO:+0100
TZNAME:CET
END:STANDARD
END:VTIMEZONE
END:VCALENDAR