BEGIN:VCALENDAR
VERSION:2.0
PRODID:-//wp-events-plugin.com//7.2.3.1//EN
TZID:Europe/Berlin
X-WR-TIMEZONE:Europe/BerlinBEGIN:VCALENDAR
VERSION:2.0
PRODID:-//wp-events-plugin.com//7.2.3.1//EN
TZID:Europe/Berlin
X-WR-TIMEZONE:Europe/Berlin
BEGIN:VEVENT
UID:0-2683@castelltreff.de
DTSTART;TZID=Europe/Berlin;VALUE=DATE:20251224
DTEND;TZID=Europe/Berlin;VALUE=DATE:20251225
DTSTAMP:20251118T160451Z
URL:https://castelltreff.de/events/offener-treff-2-2025-12-24/
SUMMARY:Frohe Weihnachten!
DESCRIPTION:Der Castelltreff bleibt an den Weihnachtstagen geschlossen.\nWi
 r wünschen trotzdem schöne Feiertage!
ATTACH;FMTTYPE=image/jpeg:https://castelltreff.de/wp-content/uploads/2023/
 09/pixabay-free.christmas-7576056_640.jpg
CATEGORIES:öffentlich
END:VEVENT
BEGIN:VTIMEZONE
TZID:Europe/Berlin
X-LIC-LOCATION:Europe/Berlin
BEGIN:STANDARD
DTSTART:20251026T020000
TZOFFSETFROM:+0200
TZOFFSETTO:+0100
TZNAME:CET
END:STANDARD
END:VTIMEZONE
END:VCALENDAR