BEGIN:VCALENDAR
VERSION:2.0
PRODID:-//wp-events-plugin.com//7.2.3.1//EN
TZID:Europe/Berlin
X-WR-TIMEZONE:Europe/BerlinBEGIN:VCALENDAR
VERSION:2.0
PRODID:-//wp-events-plugin.com//7.2.3.1//EN
TZID:Europe/Berlin
X-WR-TIMEZONE:Europe/Berlin
BEGIN:VEVENT
UID:0-2684@castelltreff.de
DTSTART;TZID=Europe/Berlin:20251231T170000
DTEND;TZID=Europe/Berlin:20251231T190000
DTSTAMP:20251120T084258Z
URL:https://castelltreff.de/events/offener-treff-2-2025-12-31/
SUMMARY:Silvester-Treff
DESCRIPTION:Wer dem Treff einen letzten Besuch in 2025 abstatten möchte\, 
 ist auch an diesem Mittwoch herzlich willkommen.\n\nGanz entspannt unter N
 achbar*innen den Abschied vom Jahr einläuten!.\nUnd wer das besondere Dat
 um mit ein bisschen etwas Besonderem garnieren möchte\, bringt das Gewün
 schte einfach mit.\n\nSpontan und selbstgemacht - passender kann das Jahr 
 in unserem Treff nicht enden!
ATTACH;FMTTYPE=image/jpeg:https://castelltreff.de/wp-content/uploads/2025/
 11/Jahreswechsel-25-26.pixabay.man-9880887_1280.jpeg
CATEGORIES:öffentlich
END:VEVENT
BEGIN:VTIMEZONE
TZID:Europe/Berlin
X-LIC-LOCATION:Europe/Berlin
BEGIN:STANDARD
DTSTART:20251026T020000
TZOFFSETFROM:+0200
TZOFFSETTO:+0100
TZNAME:CET
END:STANDARD
END:VTIMEZONE
END:VCALENDAR