BEGIN:VCALENDAR
VERSION:2.0
PRODID:-//wp-events-plugin.com//7.2.3.1//EN
TZID:Europe/Berlin
X-WR-TIMEZONE:Europe/BerlinBEGIN:VCALENDAR
VERSION:2.0
PRODID:-//wp-events-plugin.com//7.2.3.1//EN
TZID:Europe/Berlin
X-WR-TIMEZONE:Europe/Berlin
BEGIN:VEVENT
UID:0-2687@castelltreff.de
DTSTART;TZID=Europe/Berlin:20260121T170000
DTEND;TZID=Europe/Berlin:20260121T190000
DTSTAMP:20260119T085252Z
URL:https://castelltreff.de/events/offener-treff-2-2026-01-21/
SUMMARY:Sonderausgabe Pralinenherstellung: Offener Treff am Mittwoch
DESCRIPTION:Herzlichen Willkommen zu Kennenlernen\, Austausch\, Spielen!\n\
 nDiesmal zeigt Vereinsvorsitzender Hans-Peter Callsen höchstpersönlich\,
  wie er seine allseits geschätzten Pralinenkreationen herstellt.\nWer mit
 macht\, zahlt 3 € für das Material und bringt seine/ihre Produkte stolz
  nach Hause. Alle anderen sehen und staunen - oder machen es sich einfach 
 wie gewohnt gemützlich.\n\nDas ehrenamtliche Team freut sich auf vertraut
 e und neue Gäste und sorgt für Kaffee\, Tee und mehr.
ATTACH;FMTTYPE=image/jpeg:https://castelltreff.de/wp-content/uploads/2022/
 09/Gartenzimmer.neu1_.IMG_2419-1.jpg
CATEGORIES:öffentlich
END:VEVENT
BEGIN:VTIMEZONE
TZID:Europe/Berlin
X-LIC-LOCATION:Europe/Berlin
BEGIN:STANDARD
DTSTART:20251026T020000
TZOFFSETFROM:+0200
TZOFFSETTO:+0100
TZNAME:CET
END:STANDARD
END:VTIMEZONE
END:VCALENDAR