BEGIN:VCALENDAR
VERSION:2.0
PRODID:-//wp-events-plugin.com//7.2.3.1//EN
TZID:Europe/Berlin
X-WR-TIMEZONE:Europe/BerlinBEGIN:VCALENDAR
VERSION:2.0
PRODID:-//wp-events-plugin.com//7.2.3.1//EN
TZID:Europe/Berlin
X-WR-TIMEZONE:Europe/Berlin
BEGIN:VEVENT
UID:1-3453@castelltreff.de
DTSTART;TZID=Europe/Berlin:20260819T170000
DTEND;TZID=Europe/Berlin:20260819T190000
DTSTAMP:20260421T210141Z
URL:https://castelltreff.de/events/offener-treff-am-mittwoch-2026-08-19/
SUMMARY:Offener Treff am Mittwoch
DESCRIPTION:Herzlich Willkommen zu Kennenlernen\, Austausch\, Spielen!\nDer
  Castelltreff bietet dazu zwei Räume: Das Gartenzimmer\, das Zugang zur 
 überglasten Terrasse und einen kleinen Garten bietet\, und ein „Spielez
 immer“ zur Straße hin\, das vor allem für die Treffen kleiner Kreise u
 nd externer Gruppen genutzt wird..\nDas ehrenamtliche Team freut sich auf 
 vertraute und neue Gäste und sorgt für Kaffee\, Tee und mehr.
ATTACH;FMTTYPE=image/jpeg:https://castelltreff.de/wp-content/uploads/2025/
 11/Gartenzimmer.IMG_4714.500.jpg
CATEGORIES:öffentlich
END:VEVENT
BEGIN:VTIMEZONE
TZID:Europe/Berlin
X-LIC-LOCATION:Europe/Berlin
BEGIN:DAYLIGHT
DTSTART:20260329T030000
TZOFFSETFROM:+0100
TZOFFSETTO:+0200
TZNAME:CEST
END:DAYLIGHT
END:VTIMEZONE
END:VCALENDAR