BEGIN:VCALENDAR
VERSION:2.0
PRODID:-//wp-events-plugin.com//7.2.3.1//EN
TZID:Europe/Berlin
X-WR-TIMEZONE:Europe/BerlinBEGIN:VCALENDAR
VERSION:2.0
PRODID:-//wp-events-plugin.com//7.2.3.1//EN
TZID:Europe/Berlin
X-WR-TIMEZONE:Europe/Berlin
BEGIN:VEVENT
UID:0-3132@castelltreff.de
DTSTART;TZID=Europe/Berlin;VALUE=DATE:20260406
DTEND;TZID=Europe/Berlin;VALUE=DATE:20260407
DTSTAMP:20260315T233241Z
URL:https://castelltreff.de/events/offener-treff-am-montag-2-2026-02-02-20
 26-02-09-2026-02-16-2026-02-23-2026-03-02-2026-03-09-2026-03-16-2026-03-23
 -2026-03-30-2026-04-06/
SUMMARY:OSTERMONTAG
DESCRIPTION:
ATTACH;FMTTYPE=image/jpeg:https://castelltreff.de/wp-content/uploads/2024/
 12/Sorry-IV.jpg
CATEGORIES:öffentlich
END:VEVENT
BEGIN:VTIMEZONE
TZID:Europe/Berlin
X-LIC-LOCATION:Europe/Berlin
BEGIN:DAYLIGHT
DTSTART:20260329T030000
TZOFFSETFROM:+0100
TZOFFSETTO:+0200
TZNAME:CEST
END:DAYLIGHT
END:VTIMEZONE
END:VCALENDAR