BEGIN:VCALENDAR
VERSION:2.0
PRODID:-//wp-events-plugin.com//7.2.3.1//EN
TZID:Europe/Berlin
X-WR-TIMEZONE:Europe/BerlinBEGIN:VCALENDAR
VERSION:2.0
PRODID:-//wp-events-plugin.com//7.2.3.1//EN
TZID:Europe/Berlin
X-WR-TIMEZONE:Europe/Berlin
BEGIN:VEVENT
UID:0-3125@castelltreff.de
DTSTART;TZID=Europe/Berlin;VALUE=DATE:20260216
DTEND;TZID=Europe/Berlin;VALUE=DATE:20260217
DTSTAMP:20260109T181156Z
URL:https://castelltreff.de/events/offener-treff-am-montag-2-2026-02-02-20
 26-02-09-2026-02-16/
SUMMARY:Alaafbedingt heute geschlossen.
DESCRIPTION:Der Treff wünscht vill Spass in Castell un drömeröm!
ATTACH;FMTTYPE=image/jpeg:https://castelltreff.de/wp-content/uploads/2024/
 12/Sorry-IV.jpg
CATEGORIES:öffentlich
END:VEVENT
BEGIN:VTIMEZONE
TZID:Europe/Berlin
X-LIC-LOCATION:Europe/Berlin
BEGIN:STANDARD
DTSTART:20251026T020000
TZOFFSETFROM:+0200
TZOFFSETTO:+0100
TZNAME:CET
END:STANDARD
END:VTIMEZONE
END:VCALENDAR