BEGIN:VCALENDAR
VERSION:2.0
PRODID:-//wp-events-plugin.com//7.2.3.1//EN
TZID:Europe/Berlin
X-WR-TIMEZONE:Europe/BerlinBEGIN:VCALENDAR
VERSION:2.0
PRODID:-//wp-events-plugin.com//7.2.3.1//EN
TZID:Europe/Berlin
X-WR-TIMEZONE:Europe/Berlin
BEGIN:VEVENT
UID:0-2713@castelltreff.de
DTSTART;TZID=Europe/Berlin:20251215T150000
DTEND;TZID=Europe/Berlin:20251215T180000
DTSTAMP:20251119T191931Z
URL:https://castelltreff.de/events/offener-treff-am-montag-2025-12-15/
SUMMARY:Offener Treff - Sonderedition
DESCRIPTION:Herzlich Willkommen zu Kennenlernen\, Austausch\, Spielen - und
  diesmal auch Knoten!\nLeinen los\, wer Lust an seemännischen Verwicklung
 en hat! Bernd bringt uns als erfahrender Segler ein paar Knoten nahe\, die
  man womöglich auch im Alltag gut gebrauchen kann.\nMaterial bringt Bernd
  mit.\nVielen Dank ihm für das Angebot und viel Spaß allen\, die mitmach
 en oder zugucken wollen!\n\nDer Castelltreff bietet dazu zwei Räume: Das 
 Gartenzimmer\, das Zugang zur überglasten Terrasse und einen kleinen Gart
 en bietet\, und ein „Spielezimmer“ zur Straße hin\, das vor allem fü
 r die Treffen kleiner Kreise und externer Gruppen genutzt wird..\nDas ehre
 namtliche Team freut sich auf vertraute und neue Gäste und sorgt für Kaf
 fee\, Tee und mehr.
ATTACH;FMTTYPE=image/jpeg:https://castelltreff.de/wp-content/uploads/2025/
 11/Knoten.pixabay.node-2032759_1280.500.jpg
CATEGORIES:öffentlich
END:VEVENT
BEGIN:VTIMEZONE
TZID:Europe/Berlin
X-LIC-LOCATION:Europe/Berlin
BEGIN:STANDARD
DTSTART:20251026T020000
TZOFFSETFROM:+0200
TZOFFSETTO:+0100
TZNAME:CET
END:STANDARD
END:VTIMEZONE
END:VCALENDAR