BEGIN:VCALENDAR
VERSION:2.0
PRODID:-//wp-events-plugin.com//7.2.3.1//EN
TZID:Europe/Berlin
X-WR-TIMEZONE:Europe/BerlinBEGIN:VCALENDAR
VERSION:2.0
PRODID:-//wp-events-plugin.com//7.2.3.1//EN
TZID:Europe/Berlin
X-WR-TIMEZONE:Europe/Berlin
BEGIN:VEVENT
UID:0-2045@castelltreff.de
DTSTART;TZID=Europe/Berlin:20241030T170000
DTEND;TZID=Europe/Berlin:20241030T190000
DTSTAMP:20241020T195408Z
URL:https://castelltreff.de/events/offener-treff-mittwochs-2024-10-30/
SUMMARY:Offener Treff mittwochs
DESCRIPTION:Herzlichen Willkommen zu Kennenlernen\, Austausch\, Spielen!\nD
 er Castelltreff bietet dazu zwei Räume: Ein Lesezimmer mit offenem Büche
 rschrank und diversen Brettspielen sowie ein Gartenzimmer\, das Zugang zur
  überglasten Terrasse und einen kleinen Garten bietet.\nDas ehrenamtliche
  Team freut sich auf vertraute und neue Gäste und sorgt für Kaffee\, Tee
  und mehr.
ATTACH;FMTTYPE=image/jpeg:https://castelltreff.de/wp-content/uploads/2022/
 09/Gartenzimmer.neu1_.IMG_2419-1.jpg
CATEGORIES:öffentlich
END:VEVENT
BEGIN:VTIMEZONE
TZID:Europe/Berlin
X-LIC-LOCATION:Europe/Berlin
BEGIN:STANDARD
DTSTART:20241027T020000
TZOFFSETFROM:+0200
TZOFFSETTO:+0100
TZNAME:CET
END:STANDARD
END:VTIMEZONE
END:VCALENDAR